{"text_format":"1","workbook":"xlsx","n_sheets":4,"sheets":["基本情報入力シート","別紙様式3-1","別紙様式3-2","【参考】サービス名一覧"],"not_rendered":{"charts":0,"images":1,"macros":0,"external_links":5,"defined_names":25,"comments":3,"pivot_tables":0},"unopened":[],"bounds":{"document_bytes":16777216,"sheet_cells":100000,"rows_first":2000,"rows_last":500,"rows_between":2000,"halvings":0,"cell_chars":16384,"cell_head_chars":4096},"cells_cut":0,"cells_raw":0,"read":"whole","date_system":"1900"}

{"sheet":"基本情報入力シート","index":0,"n_rows":152,"n_cols":29,"rows_kept":152,"cut":false,"hidden":false,"merged":[[2,0,2,25],[13,0,13,25],[44,2,44,11],[44,12,44,23],[45,2,45,11],[45,12,45,23],[41,2,41,11],[41,12,41,23],[42,1,43,1],[42,2,42,11],[42,12,42,23],[43,2,43,11],[43,12,43,23],[3,0,3,26],[5,0,5,24],[38,2,38,11],[38,12,38,23],[39,2,39,11],[39,12,39,23],[40,2,40,11],[40,12,40,23],[31,2,31,11],[35,2,35,11],[35,12,35,23],[54,17,54,21],[55,12,55,16],[55,17,55,21],[49,2,49,26],[51,17,51,21],[52,12,52,16],[52,17,52,21],[50,17,50,22],[52,2,52,11],[53,2,53,11],[54,2,54,11],[55,2,55,11],[36,2,36,11],[36,12,36,23],[37,2,37,11],[59,12,59,16],[59,17,59,21],[60,12,60,16],[60,17,60,21],[61,12,61,16],[61,17,61,21],[56,12,56,16],[56,17,56,21],[57,12,57,16],[57,17,57,21],[58,12,58,16],[58,17,58,21],[56,2,56,11],[57,2,57,11],[58,2,58,11],[59,2,59,11],[60,2,60,11],[61,2,61,11],[53,12,53,16],[53,17,53,21],[54,12,54,16],[65,12,65,16],[65,17,65,21],[66,12,66,16],[66,17,66,21],[67,12,67,16],[67,17,67,21],[62,12,62,16],[62,17,62,21],[63,12,63,16],[63,17,63,21],[64,12,64,16],[64,17,64,21],[71,12,71,16],[71,17,71,21],[72,12,72,16],[72,17,72,21],[73,12,73,16],[73,17,73,21],[68,12,68,16],[68,17,68,21],[69,12,69,16],[69,17,69,21],[70,12,70,16],[70,17,70,21],[77,12,77,16],[77,17,77,21],[78,12,78,16],[78,17,78,21],[79,12,79,16],[79,17,79,21],[74,12,74,16],[74,17,74,21],[75,12,75,16],[75,17,75,21],[76,12,76,16],[76,17,76,21],[83,12,83,16],[83,17,83,21],[84,12,84,16],[84,17,84,21],[85,12,85,16],[85,17,85,21],[80,12,80,16],[80,17,80,21],[81,12,81,16],[81,17,81,21],[82,12,82,16],[82,17,82,21],[153,2,153,26],[89,12,89,16],[89,17,89,21],[90,12,90,16],[90,17,90,21],[151,12,151,16],[151,17,151,21],[86,12,86,16],[86,17,86,21],[87,12,87,16],[87,17,87,21],[88,12,88,16],[88,17,88,21],[91,12,91,16],[91,17,91,21],[92,12,92,16],[92,17,92,21],[93,12,93,16],[93,17,93,21],[94,12,94,16],[94,17,94,21],[95,12,95,16],[95,17,95,21],[96,12,96,16],[96,17,96,21],[97,12,97,16],[97,17,97,21],[98,12,98,16],[98,17,98,21],[99,12,99,16],[99,17,99,21],[100,12,100,16],[100,17,100,21],[101,12,101,16],[101,17,101,21],[102,12,102,16],[102,17,102,21],[103,12,103,16],[103,17,103,21],[104,12,104,16],[104,17,104,21],[105,12,105,16],[105,17,105,21],[106,12,106,16],[106,17,106,21],[107,12,107,16],[107,17,107,21],[108,12,108,16],[108,17,108,21],[109,12,109,16],[109,17,109,21],[110,12,110,16],[110,17,110,21],[111,12,111,16],[111,17,111,21],[112,12,112,16],[112,17,112,21],[113,12,113,16],[113,17,113,21],[114,12,114,16],[114,17,114,21],[115,12,115,16],[115,17,115,21],[116,12,116,16],[116,17,116,21],[117,12,117,16],[117,17,117,21],[118,12,118,16],[118,17,118,21],[119,12,119,16],[119,17,119,21],[120,12,120,16],[120,17,120,21],[121,12,121,16],[121,17,121,21],[122,12,122,16],[122,17,122,21],[123,12,123,16],[123,17,123,21],[124,12,124,16],[124,17,124,21],[125,12,125,16],[125,17,125,21],[133,17,133,21],[134,12,134,16],[134,17,134,21],[135,12,135,16],[135,17,135,21],[126,12,126,16],[126,17,126,21],[127,12,127,16],[127,17,127,21],[128,12,128,16],[128,17,128,21],[129,12,129,16],[129,17,129,21],[130,12,130,16],[130,17,130,21],[148,12,148,16],[148,17,148,21],[149,12,149,16],[149,17,149,21],[150,12,150,16],[150,17,150,21],[141,12,141,16],[141,17,141,21],[142,12,142,16],[142,17,142,21],[143,12,143,16],[143,17,143,21],[144,12,144,16],[144,17,144,21],[145,12,145,16],[145,17,145,21],[50,1,51,1],[50,2,51,11],[50,12,51,16],[50,23,51,23],[50,24,51,24],[146,12,146,16],[146,17,146,21],[147,12,147,16],[147,17,147,21],[136,12,136,16],[136,17,136,21],[137,12,137,16],[137,17,137,21],[138,12,138,16],[138,17,138,21],[139,12,139,16],[139,17,139,21],[140,12,140,16],[140,17,140,21],[131,12,131,16],[131,17,131,21],[132,12,132,16],[132,17,132,21],[133,12,133,16],[62,2,62,11],[63,2,63,11],[64,2,64,11],[65,2,65,11],[66,2,66,11],[67,2,67,11],[68,2,68,11],[69,2,69,11],[70,2,70,11],[71,2,71,11],[72,2,72,11],[73,2,73,11],[74,2,74,11],[75,2,75,11],[76,2,76,11],[77,2,77,11],[78,2,78,11],[79,2,79,11],[80,2,80,11],[81,2,81,11],[82,2,82,11],[83,2,83,11],[84,2,84,11],[85,2,85,11],[86,2,86,11],[87,2,87,11],[88,2,88,11],[89,2,89,11],[90,2,90,11],[91,2,91,11],[92,2,92,11],[93,2,93,11],[94,2,94,11],[95,2,95,11],[96,2,96,11],[97,2,97,11],[98,2,98,11],[99,2,99,11],[100,2,100,11],[101,2,101,11],[102,2,102,11],[103,2,103,11],[104,2,104,11],[105,2,105,11],[106,2,106,11],[107,2,107,11],[108,2,108,11],[109,2,109,11],[110,2,110,11],[111,2,111,11],[112,2,112,11],[113,2,113,11],[114,2,114,11],[115,2,115,11],[116,2,116,11],[117,2,117,11],[118,2,118,11],[119,2,119,11],[120,2,120,11],[121,2,121,11],[122,2,122,11],[123,2,123,11],[124,2,124,11],[125,2,125,11],[126,2,126,11],[127,2,127,11],[128,2,128,11],[129,2,129,11],[130,2,130,11],[131,2,131,11],[132,2,132,11],[133,2,133,11],[134,2,134,11],[135,2,135,11],[136,2,136,11],[146,2,146,11],[147,2,147,11],[148,2,148,11],[149,2,149,11],[150,2,150,11],[151,2,151,11],[137,2,137,11],[138,2,138,11],[139,2,139,11],[140,2,140,11],[141,2,141,11],[142,2,142,11],[143,2,143,11],[144,2,144,11],[145,2,145,11]]}
["実績報告書（処遇改善加算・特定加算・ベースアップ等加算）作成用　基本情報入力シート",null,null,null,null,null,null,null,null,null,null,null,null,null,null,null,null,null,null,null,null,null,null,null,null,null,null,null,"↓隠し列"]
[]
["●はじめに本シート（基本情報入力シート）の黄色セルに入力することで、加算の対象事業所等に関する基本的な情報が、各様式に自動的に転記されます。"]
["【注意】本シートは様式作成用のため、本実績報告書の提出を紙で行う場合、本シートの提出は不要です。ただし、自治体に電子媒体で提出する場合は、本シートを削除せずそのまま提出してください。"]
[]
["●「様式3-1」を完成させるには、「基本情報入力シート」「様式3-2」から転記される情報が必要です。まずは上記シートを完成させてください。"]
[]
[]
[]
[]
[]
[]
[]
["●「様式3－1」に記載する各加算による賃金改善の所要額について、具体的な算出方法は問いませんが、各職員に対し、各加算を原資として行った賃金改善額を積み上げる（足し上げる）などの適切な方法により算出してください。また、「賃金額」を記入する欄には、基本給、手当、賞与等（退職手当を除く。）を含む金額を記入してください。\n"]
[]
[]
[]
[]
[]
[]
[]
[]
[]
[]
[]
[]
[]
[]
[]
["１　提出先に関する情報"]
[null,"処遇改善加算・特定加算・ベースアップ等加算の届出に係る提出先（指定権者）の名称を入力してください。"]
[null,"加算提出先"]
[]
["２　基本情報"]
[null,"下表に必要事項を入力してください。記入内容が別紙様式に反映されます。"]
[null,"法人名","フリガナ"]
[null,null,"名称",null,null,null,null,null,null,null,null,null,null,null,null,null,null,null,null,null,null,null,null,null,null,null,null,null,"〒結合"]
[null,"法人住所","〒",null,null,null,null,null,null,null,null,null,null,null,null,"－",null,null,null,null,null,null,null,null,null,null,null,null,{"$f":"CONCATENATE(M38,N38,O38,P38,Q38,R38,S38,T38)","v":"－"}]
[null,null,"住所１（番地・住居番号まで）"]
[null,null,"住所２（建物名等）"]
[null,"法人代表者","職名"]
[null,null,"氏名"]
[null,"書類作成\n担当者","フリガナ"]
[null,null,"氏名"]
[null,"連絡先","電話番号"]
[null,null,"e-mail"]
[]
["３　加算対象事業所に関する情報"]
[null,"下表に必要事項を入力してください。記入内容が別紙様式3-2に反映されます。"]
[]
[null,"通し番号","介護保険事業所番号",null,null,null,null,null,null,null,null,null,"指定権者名",null,null,null,null,"事業所の所在地",null,null,null,null,null,"事業所名","サービス名"]
[null,null,null,null,null,null,null,null,null,null,null,null,null,null,null,null,null,"都道府県",null,null,null,null,"市区町村"]
[null,1]
[null,{"$f":"B53+1","v":2}]
[null,{"$f":"B54+1","v":3}]
[null,4]
[null,5]
[null,6]
[null,7]
[null,8]
[null,9]
[null,10]
[null,11]
[null,12]
[null,13]
[null,14]
[null,15]
[null,16]
[null,17]
[null,18]
[null,19]
[null,20]
[null,21]
[null,22]
[null,23]
[null,24]
[null,25]
[null,26]
[null,27]
[null,28]
[null,29]
[null,30]
[null,31]
[null,32]
[null,33]
[null,34]
[null,35]
[null,36]
[null,37]
[null,38]
[null,39]
[null,40]
[null,41]
[null,42]
[null,43]
[null,44]
[null,45]
[null,46]
[null,47]
[null,48]
[null,49]
[null,50]
[null,51]
[null,52]
[null,53]
[null,54]
[null,55]
[null,56]
[null,57]
[null,58]
[null,59]
[null,60]
[null,61]
[null,62]
[null,63]
[null,64]
[null,65]
[null,66]
[null,{"$f":"B118+1","v":67}]
[null,68]
[null,69]
[null,70]
[null,71]
[null,72]
[null,73]
[null,74]
[null,75]
[null,76]
[null,77]
[null,78]
[null,79]
[null,80]
[null,81]
[null,82]
[null,83]
[null,84]
[null,85]
[null,86]
[null,87]
[null,88]
[null,89]
[null,90]
[null,91]
[null,92]
[null,93]
[null,94]
[null,95]
[null,96]
[null,97]
[null,98]
[null,99]
[null,100]

{"sheet":"別紙様式3-1","index":1,"n_rows":163,"n_cols":38,"rows_kept":163,"cut":false,"hidden":false,"merged":[[104,37,106,47],[148,0,150,0],[148,1,148,34],[149,1,149,34],[150,1,150,34],[151,1,151,34],[154,0,159,0],[124,5,124,34],[140,13,140,15],[140,16,140,17],[140,18,140,22],[140,23,140,24],[140,25,140,33],[140,34,140,35],[139,3,139,4],[139,6,139,7],[139,9,139,10],[139,13,139,15],[139,16,139,35],[125,5,125,35],[126,5,126,34],[131,0,131,35],[104,4,104,34],[147,0,147,35],[160,0,161,0],[154,1,154,34],[155,1,155,34],[156,1,156,34],[157,1,157,34],[158,1,158,34],[159,1,159,34],[160,1,160,34],[161,1,161,34],[153,0,153,35],[102,1,102,35],[104,0,104,3],[121,5,121,34],[113,0,116,3],[96,25,96,27],[162,1,162,34],[35,15,35,20],[35,22,35,27],[35,29,35,34],[38,24,41,24],[42,1,42,14],[43,1,43,14],[44,1,44,14],[43,15,43,20],[44,15,44,20],[107,5,107,34],[105,5,105,35],[82,0,82,23],[105,0,108,3],[106,5,106,34],[108,5,108,34],[97,18,97,22],[82,24,82,28],[96,3,96,17],[128,5,128,34],[109,5,109,35],[120,5,120,35],[121,0,124,3],[111,5,111,34],[137,1,137,34],[134,1,134,35],[119,5,119,34],[112,5,112,35],[125,0,128,3],[123,5,123,34],[113,5,113,34],[117,0,120,3],[116,5,116,34],[115,5,115,34],[118,5,118,34],[114,5,114,35],[117,5,117,35],[127,5,127,34],[109,0,112,3],[110,5,110,34],[122,5,122,35],[0,24,0,27],[0,28,0,35],[12,6,12,35],[8,0,10,5],[7,0,7,5],[12,0,12,5],[8,7,8,11],[29,1,29,2],[29,3,29,4],[29,15,29,20],[13,6,13,9],[10,6,10,35],[11,0,11,5],[11,6,11,35],[2,0,2,36],[6,0,6,5],[6,6,6,35],[7,6,7,35],[9,6,9,35],[3,21,3,22],[13,0,13,5],[13,20,13,23],[13,10,13,19],[13,24,13,35],[58,0,58,3],[62,1,62,36],[73,30,73,34],[58,4,58,35],[34,22,34,27],[34,29,34,34],[34,5,34,14],[17,2,17,11],[17,13,17,22],[17,24,17,34],[28,0,28,21],[30,1,30,14],[30,15,30,20],[34,3,34,4],[38,15,38,20],[33,22,33,27],[41,1,41,14],[41,15,41,20],[39,1,39,14],[40,1,40,14],[39,15,39,20],[40,15,40,20],[38,23,41,23],[33,29,33,34],[22,37,22,71],[24,1,24,36],[34,15,34,20],[33,0,33,14],[33,15,33,20],[39,0,40,0],[33,37,33,47],[38,37,41,47],[57,0,57,3],[49,1,49,36],[42,0,46,0],[46,1,46,14],[46,15,46,20],[51,1,51,36],[50,1,50,36],[42,15,42,20],[45,1,45,14],[38,5,38,14],[45,15,45,20],[35,1,35,14],[57,4,57,35],[38,3,38,4],[52,1,52,36],[53,1,53,36],[38,1,38,2],[34,1,34,2],[82,31,83,31],[82,32,83,32],[82,37,83,47],[74,30,74,34],[75,18,75,22],[80,0,80,23],[81,0,81,23],[75,30,75,34],[79,0,79,17],[75,24,75,28],[81,24,81,28],[80,24,80,28],[79,24,79,28],[76,18,76,22],[76,24,76,28],[76,30,76,34],[74,18,74,22],[74,24,74,28],[59,0,59,35],[77,0,78,17],[77,19,78,21],[77,18,78,18],[94,37,94,47],[96,37,96,47],[77,22,78,22],[77,25,78,27],[77,24,78,24],[77,28,78,28],[77,31,78,33],[77,30,78,30],[77,34,78,34],[77,23,78,23],[77,29,78,29],[94,32,96,32],[88,4,88,31],[89,12,89,34],[89,0,89,11],[93,0,94,1],[95,0,96,1],[91,0,91,35],[94,3,94,17],[94,25,94,27],[95,18,95,22],[96,18,96,22],[93,18,93,22],[94,18,94,22],[64,1,64,35],[65,1,65,35],[66,1,66,35],[67,1,67,35],[69,1,69,35],[72,24,72,29],[72,30,72,35],[89,37,89,47],[72,18,72,23],[81,37,81,47],[73,36,74,36],[73,37,73,47],[79,18,79,23],[79,30,79,34],[87,1,87,34],[83,24,83,28],[83,0,83,23],[73,24,73,28],[73,18,73,22],[73,0,73,17],[76,36,77,36],[78,36,79,36],[77,37,77,47],[78,37,78,47]]}
["別紙様式３－１",null,null,null,null,null,null,null,null,null,null,null,null,null,null,null,null,null,null,null,null,null,null,null,"提出先",null,null,null,{"$f":"IF(基本情報入力シート!C32=\"\",\"\",基本情報入力シート!C32)","v":""}]
[]
["介護職員処遇改善加算・介護職員等特定処遇改善加算・介護職員等ベースアップ等支援加算"]
[null,null,null,null,null,null,null,null,null,null,null,null,null,null,null,null,null,null,null,null,"実績報告書（令和",null,null,"年度）"]
["１　基本情報＜共通＞"]
[]
["フリガナ",null,null,null,null,null,{"$f":"IF(基本情報入力シート!M36=\"\",\"\",基本情報入力シート!M36)","v":""}]
["法人名",null,null,null,null,null,{"$f":"IF(基本情報入力シート!M37=\"\",\"\",基本情報入力シート!M37)","v":""}]
["法人所在地",null,null,null,null,null,"〒",{"$f":"IF(基本情報入力シート!AC38=\"－\",\"\",基本情報入力シート!AC38)","v":""}]
[null,null,null,null,null,null,{"$f":"IF(基本情報入力シート!M39=\"\",\"\",基本情報入力シート!M39)","v":""}]
[null,null,null,null,null,null,{"$f":"IF(基本情報入力シート!M40=\"\",\"\",基本情報入力シート!M40)","v":""}]
["フリガナ",null,null,null,null,null,{"$f":"IF(基本情報入力シート!M43=\"\",\"\",基本情報入力シート!M43)","v":""}]
["書類作成担当者",null,null,null,null,null,{"$f":"IF(基本情報入力シート!M44=\"\",\"\",基本情報入力シート!M44)","v":""}]
["連絡先",null,null,null,null,null,"電話番号",null,null,null,{"$f":"IF(基本情報入力シート!M45=\"\",\"\",基本情報入力シート!M45)","v":""},null,null,null,null,null,null,null,null,null,"E-mail",null,null,null,{"$f":"IF(基本情報入力シート!M46=\"\",\"\",基本情報入力シート!M46)","v":""}]
[]
[]
["　【本実績報告書で報告する加算】　※取得した加算について「○」、取得しない加算について「×」を選択すること。"]
[null,null,"介護職員処遇改善加算\n（処遇改善加算）",null,null,null,null,null,null,null,null,null,null,"介護職員等特定処遇改善加算\n（特定加算）",null,null,null,null,null,null,null,null,null,null,"介護職員等ベースアップ等支援加算\n（ベースアップ等加算）"]
[]
[]
["２　実績報告について＜共通＞"]
["・","2（2）（3）では以下の要件を確認しており、オレンジセルが「○」でない場合、加算取得の要件を満たしていない。"]
["Ⅰ","【処遇改善加算】介護職員の賃金について、処遇改善加算による賃金改善所要額が、同加算の算定額以上であること",null,null,null,null,null,null,null,null,null,null,null,null,null,null,null,null,null,null,null,null,null,null,null,null,null,null,null,null,null,null,null,null,null,null,null,"　　"]
["Ⅱ","【特定加算】介護職員及びその他の職員の賃金について、特定加算による賃金改善所要額が、同加算の算定額以上であること"]
["Ⅲ","【ベースアップ等加算】介護職員及びその他の職員の賃金について、ベースアップ等加算による賃金改善所要額が、同加算の算定額以上であること"]
["Ⅳ","【全加算】処遇改善加算等による賃金改善以外の部分で賃金水準を引き下げないこと。"]
[]
["（１）加算額以上の賃金改善について（全体）"]
[" 取得した加算の合計"]
["①","令和",null,{"$f":"IF(V4=0,\"\",V4)","v":""},null,"年度の加算の総額",null,null,null,null,null,null,null,null,null,{"$f":"P35+W35+AD35","v":0},null,null,null,null,null,"円"]
["②","加算による賃金改善所要額の総額\n（①の加算の総額以上であること）",null,null,null,null,null,null,null,null,null,null,null,null,null,{"$f":"P36+W36+AD36","v":0},null,null,null,null,null,"円"]
[]
["（２）加算額以上の賃金改善について（各加算の内訳）",null,null,null,null,null,null,null,null,null,null,null,null,null,null,null,null,null,null,null,null,"要件Ⅰ",null,null,null,null,null,null,"要件Ⅱ",null,null,null,null,null,null,"要件Ⅲ"]
[null,null,null,null,null,null,null,null,null,null,null,null,null,null,null,"処遇改善加算",null,null,null,null,null,{"$f":"IF(P35=\"\",\"\",IF(P36=\"\",\"\",IF(P36>=P35,\"○\",\"☓\")))","v":""},"特定加算",null,null,null,null,null,{"$f":"IF(W35=\"\",\"\",IF(W36=\"\",\"\",IF(W36>=W35,\"○\",\"☓\")))","v":"○"},"ベースアップ等加算",null,null,null,null,null,{"$f":"IF(AD35=\"\",\"\",IF(AD36=\"\",\"\",IF(AD36>=AD35,\"○\",\"☓\")))","v":"○"},null,"！要件Ⅰ～Ⅲが☓の場合、②の賃金改善所要額が①の加算の額以上になっていません。"]
["①","令和",null,{"$f":"IF(V4=0,\"\",V4)","v":""},null,"年度の加算の額",null,null,null,null,null,null,null,null,null,{"$f":"IF('別紙様式3-2'!P7=\"\",\"\",'別紙様式3-2'!P7)","v":0},null,null,null,null,null,"円",{"$f":"IF('別紙様式3-2'!P8=\"\",\"\",'別紙様式3-2'!P8)","v":0},null,null,null,null,null,"円",{"$f":"IF('別紙様式3-2'!P9=\"\",\"\",'別紙様式3-2'!P9)","v":0},null,null,null,null,null,"円"]
["②","各加算による賃金改善所要額\n（①の各加算の額以上であること）",null,null,null,null,null,null,null,null,null,null,null,null,null,null,null,null,null,null,null,"円",{"$f":"IFERROR(S76+Y76+AE76,\"\")","v":0},null,null,null,null,null,"円",{"$f":"IFERROR(S94+S96,\"\")","v":0},null,null,null,null,null,"円"]
[]
["（３）加算以外の部分で賃金水準を下げないことについて"]
["①","令和",null,{"$f":"IF(V4=0,\"\",V4)","v":""},null,"年度の加算の影響を除いた賃金額",null,null,null,null,null,null,null,null,null,{"$f":"P40-P41","v":0},null,null,null,null,null,"円","←",{"$f":"IF(P42=\"\",\"\",IF(P39=\"\",\"\",IF(P39>=P42,\"○\",\"☓\")))","v":"○"},"要件Ⅳ",null,null,null,null,null,null,null,null,null,null,null,null,"！要件Ⅳが☓の場合、加算以外の部分で賃金水準が引き下げられています。この欄が☓のまま提出する場合には、別紙様式５「特別な事情に係る届出書」を合わせて提出してください。\n\n※「処遇改善加算等による賃金改善以外の部分で賃金水準を引き下げない」とは、「本年度の賃金の総額(d)」から「本年度の各加算による賃金改善所要額の総額(e)」を除いた額（d-e）と、「前年度の賃金の総額(f)」から「前年度の各加算額及び独自の賃金改善額（(g+h+i+j)」を除いた額（f-g-h-i-j）を比較した上で、加算等の影響を除いた賃金額の水準を引き下げないことを言います。"]
[null,"（ア）本年度の賃金の総額",null,null,null,null,null,null,null,null,null,null,null,null,null,null,null,null,null,null,null,"円"]
[null,"（イ）本年度の加算による賃金改善所要額の総額（再掲）",null,null,null,null,null,null,null,null,null,null,null,null,null,{"$f":"P31","v":0},null,null,null,null,null,"円"]
["②","前年度の加算及び独自の賃金改善の影響を除いた賃金額（①の額は②の額を下回らないこと）",null,null,null,null,null,null,null,null,null,null,null,null,null,{"$f":"P43-P44-P45-P46-P47","v":0},null,null,null,null,null,"円","←"]
[null,"(ア)前年度の賃金の総額",null,null,null,null,null,null,null,null,null,null,null,null,null,null,null,null,null,null,null,"円"]
[null,"(イ)前年度の処遇改善加算の総額",null,null,null,null,null,null,null,null,null,null,null,null,null,null,null,null,null,null,null,"円"]
[null,"(ウ)前年度の特定加算の総額",null,null,null,null,null,null,null,null,null,null,null,null,null,null,null,null,null,null,null,"円"]
[null,"(エ)前年度のベースアップ等加算の総額\n（介護職員処遇改善支援補助金の総額を含む）",null,null,null,null,null,null,null,null,null,null,null,null,null,null,null,null,null,null,null,"円"]
[null,"(オ)前年度の各介護サービス事業者等の\n独自の賃金改善額",null,null,null,null,null,null,null,null,null,null,null,null,null,null,null,null,null,null,null,"円"]
[]
["【記入上の注意】"]
["・","(a)～(c)には、処遇改善加算等による賃金改善に伴う法定福利費等の事業主負担の増加分を含めることができる。"]
["・","(d)には、加算の配分対象とした全ての職員（介護職員及びその他の職種）の賃金の総額を記載すること。（処遇改善加算、特定加算、ベースアップ等加算の加算額を上回るために実施した賃金改善の所要額を含む額を記載すること。）"]
["・","(f)には、加算を取得する前年度（４月～３月）の実績値について、加算等の配分対象としたすべての職員（介護職員及びその他の職種）の賃金の総額を記載すること。（処遇改善加算、特定加算、ベースアップ等加算及び処遇改善支援補助金の加算等の金額を上回るために実施した賃金改善の所要額を含む額を記載すること。）ただし、職員構成が変わった等の事由により、例えば、本年度に入職（退職）した職員と同等の賃金水準の職員が前年度から在籍していた（いなかった）ものと仮定して計算するなどの方法により、今年度との比較に適した値に修正することが可能である。"]
["・","(g)～(i）には、加算を取得する前年度（４月～３月）の実績値について、都道府県国民健康保険団体連合会から通知される「介護職員処遇改善加算等総額のお知らせ」「介護職員処遇改善支援補助金　支払額通知書」に基づき記載すること。ただし、(i)について、令和４年４月サービス提供分の介護職員処遇改善支援補助金の額は、令和４年５月審査分（２～４月サービス提供分）の額を３等分して推計すること。"]
["・","(j)の独自の賃金改善額とは、本実績報告書の提出年度における独自の賃金改善分（初めて処遇改善加算を取得した年度以降に新たに行ったものに限る。処遇改善加算、特定加算及びベースアップ等加算そのものの配分を除く。）をいうものであり、処遇改善加算等の加算額を超えて賃金改善を行った場合にはその金額も含む。(j)に計上する金額がある場合には、必ず「２（４）　各介護サービス事業者等による処遇改善加算、特定加算及びベースアップ等加算の配分を除く賃金改善」欄に支給額、方法等の具体的な賃金改善の内容を記載すること。"]
[]
["（４）前年度の独自の賃金改善（処遇改善加算等の配分以外の独自の賃金額）"]
["・","２（3）②(オ)の「前年度の各介護サービス事業者等の独自の賃金改善額」に計上する場合は記載すること。"]
["独自の賃金改善の具体的な取組内容"]
["独自の賃金改善額の算定根拠"]
["※初めて処遇改善加算を取得した年度以降に新たに行ったものに限る。処遇改善加算、特定加算及びベースアップ等加算そのものの配分を除いた額を記載すること。"]
[]
["３　各加算の要件について"]
["・　","3(1)(2)では以下の要件を確認しており、オレンジセルが「×」となる場合、加算取得の要件を満たしていない。"]
["【特定加算】"]
["Ⅴ","経験・技能のある介護職員（A）の特定加算による平均賃金改善額が他の介護職員（B）の平均賃金改善額より高いこと（A＞B）\n　（ただし、介護職員間で経験・技能に明らかな差がない場合など、(A)を設定できない場合は、この限りではない。）"]
["Ⅵ","他の介護職員（B）の特定加算による平均賃金改善額がその他の職種（C）の平均賃金改善額の２倍以上であること（Ｂ≧2Ｃ）\n　（ただし、(C)の平均賃金が(B)の平均賃金を上回らない場合はこの限りではない）"]
["Ⅶ","特定加算による賃金改善の対象としたその他の職種（C）の改善後の賃金が年額440万円を上回らないこと"]
["Ⅷ","経験・技能のある介護職員（A）のうち、特定加算を申請する事業所数につき1人以上は、賃金改善所要額が月額平均８万円以上又は改善後の賃金が年額440万円以上であること"]
["【ベースアップ等加算】"]
["Ⅸ","介護職員とその他の職種のそれぞれについて、賃金改善の見込額の３分の２以上が、ベースアップ等（基本給又は決まって毎月支払われる手当の引上げ）に充てられる計画になっていること"]
[]
["（１）介護職員等特定処遇改善加算の要件について"]
[null,null,null,null,null,null,null,null,null,null,null,null,null,null,null,null,null,null,"経験・技能のある\n介護職員(A)",null,null,null,null,null,"他の介護職員(B)",null,null,null,null,null,"その他の職種(C)"]
["①特定加算による賃金改善を実施したグループ\n※加算の配分対象としたグループに必ずチェック（✔）すること",null,null,null,null,null,null,null,null,null,null,null,null,null,null,null,null,null,false,null,null,null,null,null,false,null,null,null,null,null,false,null,null,null,null,{"$f":"IF(M18=\"○\", IF(OR(AND(NOT(S74),NOT(Y74),AE74),AND(NOT(S74),NOT(Y74),NOT(AE74))),\"×\",\"○\"),\"\")","v":""},null,"！この欄が☓の場合、「賃金改善を実施するグループ」の選択方法が不適切です。"]
["②一月当たりの常勤換算職員数",null,null,null,null,null,null,null,null,null,null,null,null,null,null,null,null,null,null,null,null,null,null,"人",null,null,null,null,null,"人",null,null,null,null,null,"人"]
["③特定加算による賃金改善所要額（年額）",null,null,null,null,null,null,null,null,null,null,null,null,null,null,null,null,null,null,null,null,null,null,"円",null,null,null,null,null,"円",null,null,null,null,null,"円"]
["④特定加算による平均賃金改善所要額（月額）",null,null,null,null,null,null,null,null,null,null,null,null,null,null,null,null,null,{"$f":"S76/(S75*12)","v":{"$error":"#DIV/0!"}},null,null,null,null,"円",{"$f":"Y76/(Y75*12)","v":{"$error":"#DIV/0!"}},null,null,null,null,"円",{"$f":"AE76/(AE75*12)","v":{"$error":"#DIV/0!"}},null,null,null,null,"円","要件Ⅴ"]
["⑤特定加算による平均賃金改善所要額の比率\n　（グループごとの配分比率）",null,null,null,null,null,null,null,null,null,null,null,null,null,null,null,null,null,"(",{"$f":"IF(Y77, S77/Y77, 1)","v":{"$error":"#DIV/0!"}},null,null,")",null,"(",{"$f":"IF(Y77,1,0)","v":{"$error":"#DIV/0!"}},null,null,")",null,"(",{"$f":"IF(Y77, AE77/Y77, IF(AE77, AE77/S77, 0))","v":{"$error":"#DIV/0!"}},null,null,")",{"$f":"IF(M18=\"○\", IF(AND(S74=TRUE, Y74=TRUE), IF(AND(T78>Z78, Z78>0),\"○\",\"×\"),\"\"),\"\")","v":""},null,"！要件Ⅴが☓の場合、A：Bの配分比率が要件（A＞B）を満たしていません。"]
[null,null,null,null,null,null,null,null,null,null,null,null,null,null,null,null,null,null,null,null,null,null,null,null,null,null,null,null,null,null,null,null,null,null,null,{"$f":"IF(M18=\"○\", IF(AND(Y74=TRUE,AE74=TRUE), IF(AND(Y80=\"\",AE80=\"\"), IF(AND(Z78>=2*AF78, AF78>0),\"○\",\"×\"), IF(AND(Y80>=AE80,Z78>0, AF78>0), \"○\",\"×\")),IF(AND(S74=TRUE,AE74=TRUE),IF(AND(Y80>=AE80, AE80>0), IF(AND(T78>2*AF78, AF78>0), \"○\", \"×\"),\"×\"),\"\")),\"\")","v":""},"要件Ⅵ","！要件Ⅵが☓の場合、B：Cの配分比率が要件（B≧2C）を満たしていないか、A：CがA＞2Cとなってません。"]
["⑥他の介護職員（B）とその他の職種（C）の平均賃金額（月額）\n※B≧2Cを満たさない場合のみ記入",null,null,null,null,null,null,null,null,null,null,null,null,null,null,null,null,null,null,null,null,null,null,null,null,null,null,null,null,"円",null,null,null,null,null,"円"]
["（参考）特定加算による本年度の賃金改善所要額（総額・年額）",null,null,null,null,null,null,null,null,null,null,null,null,null,null,null,null,null,null,null,null,null,null,null,{"$f":"S76+Y76+AE76","v":0},null,null,null,null,"円"]
["⑦特定加算による賃金改善の対象としたその他の職種（C）のうち、改善後の賃金が最も高額となる者の賃金額(年額）",null,null,null,null,null,null,null,null,null,null,null,null,null,null,null,null,null,null,null,null,null,null,null,null,null,null,null,null,"円","←",{"$f":"IF(M18=\"○\", IF(Y82, IF(Y82<=4400000,\"○\",\"☓\"),\"\"),\"\")","v":""},"要件Ⅶ",null,null,null,null,"！この欄が☓の場合、特定加算の配分対象としたCの職員のうち改善後の賃金が最も高額となった者の賃金が440万円を超えています。"]
["⑧経験・技能のある介護職員（A）のうち賃金改善額が月額平均８万円以上又は改善後の賃金が年額440万円以上となった者の数",null,null,null,null,null,null,null,null,null,null,null,null,null,null,null,null,null,null,null,null,null,null,null,{"$f":"SUM('別紙様式3-2'!U19:U118)","v":0},null,null,null,null,"人","←",{"$f":"IF(M18=\"○\", IF(OR(Y83>=Y84, OR(A86,A87,A88,A89)=TRUE),\"○\",\"×\"),\"\")","v":""},"要件Ⅷ",null,null,null,null,"！この欄が☓の場合、Aのうち賃金改善額が月額平均８万円以上又は改善後の賃金が年額440万円以上となった者の数が加算を取得した事業所の数を下回っており、「設定できない事業所があった場合その理由」欄にチェック（✔）がありません。"]
["⑨本計画書に記載した特定加算の取得を届け出た事業所数（短期入所系・総合事業の重複除く）",null,null,null,null,null,null,null,null,null,null,null,null,null,null,null,null,null,null,null,null,null,null,null,{"$f":"COUNTIFS('別紙様式3-2'!P19:P118,\"<>訪問型サービス（総合事業）\",'別紙様式3-2'!P19:P118,\"<>通所型サービス（総合事業）\",'別紙様式3-2'!P19:P118,\"<>（介護予防）短期入所生活介護\",'別紙様式3-2'!P19:P118,\"<>（介護予防）短期入所療養介護（老健）\",'別紙様式3-2'!P19:P118,\"<>（介護予防）短期入所療養介護 （病院等（老健以外）)\",'別紙様式3-2'!P19:P118,\"<>（介護予防）短期入所療養介護（医療院）\",'別紙様式3-2'!S19:S118,\"*\")","v":0},null,null,null,null,"か所","←"]
["⑩「月額平均８万円の処遇改善又は改善後の賃金が年額440万円以上となる者」を設定できない場合その理由"]
[false,"小規模事業所等で加算額全体が少額であるため。"]
[false,"職員全体の賃金水準が低く、直ちに月額平均８万円等まで賃金を引き上げることが困難であるため。"]
[false,"月額平均８万円等の賃金改善を行うに当たり、これまで以上に事業所内の階層や役職にある者に求められる能力や処遇を明確化することが必要であり、規程の整備や研修・実務経験の蓄積などに一定期間を要するため。"]
[false,"その他",null,"（",null,null,null,null,null,null,null,null,null,null,null,null,null,null,null,null,null,null,null,null,null,null,null,null,null,null,null,null,"）"]
["⑪（①で(A)にチェック（✔）がない場合その理由）",null,null,null,null,null,null,null,null,null,null,null,null,null,null,null,null,null,null,null,null,null,null,null,null,null,null,null,null,null,null,null,null,null,null,{"$f":"IF(S74=FALSE, IF(M90<>\"\",\"○\",\"×\"),\"\")","v":"×"},null,"！この欄が☓の場合、特定加算をAに配分しないにも関わらず、その理由が記入されていません。"]
[]
["※②には、グループごとの一月当たりの常勤換算職員数を直接記入すること。\n※⑥及び⑦には、処遇改善加算、特定加算、ベースアップ等加算による賃金改善額を含む金額を記入し、⑧の後半部分（改善後の賃金が440万円以上）も同様の方法で人数を数えること。ただし、⑧の前半部分（月額8万円以上の改善）については、特定加算による賃金改善額のみで判断すること。"]
["（２）介護職員等ベースアップ等支援加算の要件について"]
["介護職員",null,"ⅰ）ベースアップ等加算による賃金改善所要額",null,null,null,null,null,null,null,null,null,null,null,null,null,null,null,null,null,null,null,null,"円"]
[null,null,null,"うち、ベースアップ等（基本給又は毎月決まって支払われる手当の引上げ）による賃金改善所要額（年額）",null,null,null,null,null,null,null,null,null,null,null,null,null,null,null,null,null,null,null,"円","（",{"$f":"IFERROR(S95/S94*100,0)","v":0},null,null,"）","％","←",{"$f":"IF(X18=\"○\", IF(Z95=0,\"\",IF(Z95>=200/3,\"○\",\"×\")),\"\")","v":""},"要件Ⅸ",null,null,null,null,"！この欄が☓の場合、介護職員について、ベースアップ等２／３以上の要件を満たしていません。"]
["その他の職種",null," ii ）ベースアップ等加算による賃金改善所要額",null,null,null,null,null,null,null,null,null,null,null,null,null,null,null,null,null,null,null,null,"円"]
[null,null,null,"うち、ベースアップ等（基本給又は毎月決まって支払われる手当の引上げ）による賃金改善所要額（年額）",null,null,null,null,null,null,null,null,null,null,null,null,null,null,null,null,null,null,null,"円","（",{"$f":"IFERROR(S97/S96*100,0)","v":0},null,null,"）","％","←",{"$f":"IF(X18=\"○\", IF(Z97=0,\"\",IF(Z97>=200/3,\"○\",\"×\")),\"\")","v":""},null,null,null,null,null,"！この欄が☓の場合、その他の職種について、ベースアップ等２／３以上の要件を満たしていません。"]
["（参考）ベースアップ等加算による賃金改善所要額（総額・年額）",null,null,null,null,null,null,null,null,null,null,null,null,null,null,null,null,null,{"$f":"S94+S96","v":0},null,null,null,null,"円"]
["（３）職場環境等要件に基づいて実施した取組について＜処遇改善加算・特定加算＞"]
["【処遇改善加算】"]
["・","届出に係る計画の期間中に実施する事項について、チェック（✔）すること。全体で必ず１つ以上の取組を行うこと。"]
["【特定加算】"]
["・","届出に係る計画の期間中に実施する事項について、必ず全てにチェック（✔）すること。複数の取組を行い、「入職促進に向けた取組」、「資質の向上やキャリアアップに向けた支援」、「両立支援・多様な働き方の推進」、「腰痛を含む心身の健康管理」、「生産性向上のための業務改善の取組」、「やりがい・働きがいの醸成」の６区分について、それぞれ１つ以上の取組を行うこと。※処遇改善加算と特定加算とで、別の取組を行うことは要しない。\n"]
[]
["区分",null,null,null,"内容",null,null,null,null,null,null,null,null,null,null,null,null,null,null,null,null,null,null,null,null,null,null,null,null,null,null,null,null,null,null,{"$f":"IF(M18=\"○\", IF(OR(PRODUCT((E106:E109=FALSE)*1),PRODUCT((E110:E113=FALSE)*1),PRODUCT((E114:E117=FALSE)*1),PRODUCT((E118:E121=FALSE)*1),PRODUCT((E122:E125=FALSE)*1),PRODUCT((E126:E129=FALSE)*1)),\"×\",\"○\"), IF(PRODUCT((E106:E129=FALSE)*1),\"×\",\"○\"))","v":"×"},null,"！この欄が☓の場合、\n・処遇改善加算のみ取得する場合→全体で1つ以上チェックが入っていません。\n・特定加算も取得する場合→６区分ごとにそれぞれ1つ以上チェックが入っていません。"]
["入職促進に向けた取組",null,null,null,false,"法人や事業所の経営理念やケア方針・人材育成方針、その実現のための施策・仕組みなどの明確化"]
[null,null,null,null,false,"事業者の共同による採用・人事ローテーション・研修のための制度構築"]
[null,null,null,null,false,"他産業からの転職者、主婦層、中高年齢者等、経験者・有資格者等にこだわらない幅広い採用の仕組みの構築"]
[null,null,null,null,false,"職業体験の受入れや地域行事への参加や主催等による職業魅力度向上の取組の実施"]
["資質の向上やキャリアアップに向けた支援",null,null,null,false,"働きながら介護福祉士取得を目指す者に対する実務者研修受講支援や、より専門性の高い介護技術を取得しようとする者に対する喀痰吸引、認知症ケア、サービス提供責任者研修、中堅職員に対するマネジメント研修の受講支援等"]
[null,null,null,null,false,"研修の受講やキャリア段位制度と人事考課との連動"]
[null,null,null,null,false,"エルダー・メンター（仕事やメンタル面のサポート等をする担当者）制度等導入"]
[null,null,null,null,false,"上位者・担当者等によるキャリア面談など、キャリアアップ等に関する定期的な相談の機会の確保"]
["両立支援・多様な働き方の推進",null,null,null,false,"子育てや家族等の介護等と仕事の両立を目指す者のための休業制度等の充実、事業所内託児施設の整備"]
[null,null,null,null,false,"職員の事情等の状況に応じた勤務シフトや短時間正規職員制度の導入、職員の希望に即した非正規職員から正規職員への転換の制度等の整備"]
[null,null,null,null,false,"有給休暇が取得しやすい環境の整備"]
[null,null,null,null,false,"業務や福利厚生制度、メンタルヘルス等の職員相談窓口の設置等相談体制の充実",null,null,false,null,null,null,null,null,true]
["腰痛を含む心身の健康管理",null,null,null,false,"介護職員の身体の負担軽減のための介護技術の修得支援、介護ロボットやリフト等の介護機器等導入及び研修等による腰痛対策の実施"]
[null,null,null,null,false,"短時間勤務労働者等も受診可能な健康診断・ストレスチェックや、従業員のための休憩室の設置等健康管理対策の実施"]
[null,null,null,null,false,"雇用管理改善のための管理者に対する研修等の実施"]
[null,null,null,null,false,"事故・トラブルへの対応マニュアル等の作成等の体制の整備"]
["生産性向上のための業務改善の取組",null,null,null,false,"タブレット端末やインカム等のＩＣＴ活用や見守り機器等の介護ロボットやセンサー等の導入による業務量の縮減"]
[null,null,null,null,false,"高齢者の活躍（居室やフロア等の掃除、食事の配膳・下膳などのほか、経理や労務、広報なども含めた介護業務以外の業務の提供）等による役割分担の明確化"]
[null,null,null,null,false,"５S活動（業務管理の手法の１つ。整理・整頓・清掃・清潔・躾の頭文字をとったもの）等の実践による職場環境の整備"]
[null,null,null,null,false,"業務手順書の作成や、記録・報告様式の工夫等による情報共有や作業負担の軽減"]
["やりがい・働きがいの醸成",null,null,null,false,"ミーティング等による職場内コミュニケーションの円滑化による個々の介護職員の気づきを踏まえた勤務環境やケア内容の改善"]
[null,null,null,null,false,"地域包括ケアの一員としてのモチベーション向上に資する、地域の児童・生徒や住民との交流の実施"]
[null,null,null,null,false,"利用者本位のケア方針など介護保険や法人の理念等を定期的に学ぶ機会の提供"]
[null,null,null,null,false,"ケアの好事例や、利用者やその家族からの謝意等の情報を共有する機会の提供"]
[]
["（４）その他（やむを得ず配分比率を満たすことができなくなった場合等については、以下の欄に記載すること。）"]
[]
[]
["※","給与明細や勤務記録等、実績報告の根拠となる資料は、指定権者からの求めがあった場合に速やかに提出できるよう、適切に保管しておくこと。"]
["※","処遇改善加算・特定加算・ベースアップ等加算に関して、虚偽や不正があった場合には、支払われた介護給付費の返還や介護事業者の指定取消となる場合があるので留意すること。"]
[]
[]
["　","実績報告書の記載内容に虚偽がないことを証明するとともに、記載内容を証明する資料を適切に保管していることを誓約します。"]
[]
[null,"令和",null,null,null,"年",null,null,"月",null,null,"日",null,"法人名",null,null,{"$f":"IF(G8=\"\",\"\",G8)","v":""}]
[null,null,null,null,null,null,null,null,null,null,null,null,null,"代表者",null,null,"職名",null,null,null,null,null,null,"氏名"]
[]
[]
["（確認用）",null,null,null,"提出前のチェックリスト"]
["・ 以下の項目に「×」がないか、提出前に確認すること。「×」がある場合、当該項目の記載を修正すること。"]
["※空欄が表示される項目は、記入が不要であるため対応する必要はない。"]
[]
["２　実績報告について＜共通＞"]
["（２）","処遇改善加算による賃金改善の所要額が加算額以上であること",null,null,null,null,null,null,null,null,null,null,null,null,null,null,null,null,null,null,null,null,null,null,null,null,null,null,null,null,null,null,null,null,null,{"$f":"V34","v":""}]
[null,"特定加算による賃金改善の所要額が加算額以上であること",null,null,null,null,null,null,null,null,null,null,null,null,null,null,null,null,null,null,null,null,null,null,null,null,null,null,null,null,null,null,null,null,null,{"$f":"AC34","v":"○"}]
[null,"ベースアップ等加算による賃金改善の所要額が加算額以上であること",null,null,null,null,null,null,null,null,null,null,null,null,null,null,null,null,null,null,null,null,null,null,null,null,null,null,null,null,null,null,null,null,null,{"$f":"AJ34","v":"○"}]
["（３）","処遇改善加算等による賃金改善以外の部分で賃金水準を引き下げないこと",null,null,null,null,null,null,null,null,null,null,null,null,null,null,null,null,null,null,null,null,null,null,null,null,null,null,null,null,null,null,null,null,null,{"$f":"X39","v":"○"}]
[]
["３　各加算の要件について"]
["（１）","法人で設定したA：Bの配分比率が要件（A＞B）を満たしていること",null,null,null,null,null,null,null,null,null,null,null,null,null,null,null,null,null,null,null,null,null,null,null,null,null,null,null,null,null,null,null,null,null,{"$f":"AJ78","v":""}]
[null,"法人で設定したB：Cの配分比率が要件（B≧2C）を満たしていること",null,null,null,null,null,null,null,null,null,null,null,null,null,null,null,null,null,null,null,null,null,null,null,null,null,null,null,null,null,null,null,null,null,{"$f":"AJ79","v":""}]
[null,"「賃金改善を実施するグループ」の選択方法が適切であること",null,null,null,null,null,null,null,null,null,null,null,null,null,null,null,null,null,null,null,null,null,null,null,null,null,null,null,null,null,null,null,null,null,{"$f":"AJ74","v":""}]
[null,"特定加算による賃金改善の対象とするCの職員の改善後の賃金が年額440万円を上回らないこと",null,null,null,null,null,null,null,null,null,null,null,null,null,null,null,null,null,null,null,null,null,null,null,null,null,null,null,null,null,null,null,null,null,{"$f":"AF82","v":""}]
[null,"Aの職員のうち、特定加算を申請する事業所数につき1人以上は、賃金改善所要額が月額平均８万円以上又は改善後の賃金が年額440万円以上であること（短期入所・総合事業での重複を除く）",null,null,null,null,null,null,null,null,null,null,null,null,null,null,null,null,null,null,null,null,null,null,null,null,null,null,null,null,null,null,null,null,null,{"$f":"AF83","v":""}]
[null,"「賃金改善を実施するグループ」でAを選択していない場合に、その理由を記載していること",null,null,null,null,null,null,null,null,null,null,null,null,null,null,null,null,null,null,null,null,null,null,null,null,null,null,null,null,null,null,null,null,null,{"$f":"AJ90","v":"×"}]
["（２）","介護職員について、賃金改善の見込額の３分の２以上が、ベースアップ等（基本給又は決まって毎月支払われる手当の引上げ）に充てられる計画になっていること",null,null,null,null,null,null,null,null,null,null,null,null,null,null,null,null,null,null,null,null,null,null,null,null,null,null,null,null,null,null,null,null,null,{"$f":"AF95","v":""}]
[null,"その他の職種について、賃金改善の見込額の３分の２以上が、ベースアップ等（基本給又は決まって毎月支払われる手当の引上げ）に充てられる計画になっていること",null,null,null,null,null,null,null,null,null,null,null,null,null,null,null,null,null,null,null,null,null,null,null,null,null,null,null,null,null,null,null,null,null,{"$f":"AF97","v":""}]
["（３）","処遇改善加算のみ取得する場合に、全体で1つ以上の取組が選択されていること\n特定加算も取得する場合に、６区分ごとにそれぞれ1つ以上の取組が選択されていること",null,null,null,null,null,null,null,null,null,null,null,null,null,null,null,null,null,null,null,null,null,null,null,null,null,null,null,null,null,null,null,null,null,{"$f":"AJ105","v":"×"}]

{"sheet":"別紙様式3-2","index":2,"n_rows":118,"n_cols":22,"rows_kept":118,"cut":false,"hidden":false,"merged":[[115,1,115,10],[116,1,116,10],[117,1,117,10],[110,1,110,10],[111,1,111,10],[112,1,112,10],[113,1,113,10],[114,1,114,10],[105,1,105,10],[106,1,106,10],[107,1,107,10],[108,1,108,10],[109,1,109,10],[100,1,100,10],[101,1,101,10],[102,1,102,10],[103,1,103,10],[104,1,104,10],[95,1,95,10],[96,1,96,10],[97,1,97,10],[98,1,98,10],[99,1,99,10],[90,1,90,10],[91,1,91,10],[92,1,92,10],[93,1,93,10],[94,1,94,10],[85,1,85,10],[86,1,86,10],[87,1,87,10],[88,1,88,10],[89,1,89,10],[80,1,80,10],[81,1,81,10],[82,1,82,10],[83,1,83,10],[84,1,84,10],[75,1,75,10],[76,1,76,10],[77,1,77,10],[78,1,78,10],[79,1,79,10],[70,1,70,10],[71,1,71,10],[72,1,72,10],[73,1,73,10],[74,1,74,10],[65,1,65,10],[66,1,66,10],[67,1,67,10],[68,1,68,10],[69,1,69,10],[60,1,60,10],[61,1,61,10],[62,1,62,10],[63,1,63,10],[64,1,64,10],[55,1,55,10],[56,1,56,10],[57,1,57,10],[58,1,58,10],[59,1,59,10],[50,1,50,10],[51,1,51,10],[52,1,52,10],[53,1,53,10],[54,1,54,10],[45,1,45,10],[46,1,46,10],[47,1,47,10],[48,1,48,10],[49,1,49,10],[40,1,40,10],[41,1,41,10],[42,1,42,10],[43,1,43,10],[44,1,44,10],[35,1,35,10],[36,1,36,10],[37,1,37,10],[38,1,38,10],[39,1,39,10],[30,1,30,10],[31,1,31,10],[32,1,32,10],[33,1,33,10],[34,1,34,10],[25,1,25,10],[26,1,26,10],[27,1,27,10],[28,1,28,10],[29,1,29,10],[20,1,20,10],[21,1,21,10],[22,1,22,10],[23,1,23,10],[24,1,24,10],[13,16,16,16],[13,17,16,17],[13,18,16,18],[18,1,18,10],[19,1,19,10],[13,19,16,19],[13,20,17,20],[13,21,16,21],[12,12,12,13],[2,0,2,2],[2,3,2,14],[4,15,5,15],[4,1,5,14],[12,11,16,11],[12,14,16,14],[12,15,16,15],[13,12,13,13],[10,1,10,21],[12,0,15,0],[12,1,16,10],[8,1,8,14]]}
["別紙様式３－２",null,null,null,null,null,null,null,"介護職員処遇改善実績報告書・介護職員等特定処遇改善実績報告書・介護職員等ベースアップ等支援加算実績報告書（施設・事業所別個表）　"]
[]
["法人名",null,null,{"$f":"IF(基本情報入力シート!M37=\"\",\"\",基本情報入力シート!M37)","v":""}]
[]
[null,null,null,null,null,null,null,null,null,null,null,null,null,null,null,"本年度の加算の総額［円］"]
[]
[null,"処遇改善加算",null,null,null,null,null,null,null,null,null,null,null,null,null,{"$f":"SUM(R19:R118)","v":0}]
[null,"特定加算",null,null,null,null,null,null,null,null,null,null,null,null,null,{"$f":"SUM(T19:T118)","v":0}]
[null,"ベースアップ等加算",null,null,null,null,null,null,null,null,null,null,null,null,null,{"$f":"SUM(V19:V118)","v":0}]
[]
[null,"【記入上の注意】\n・本表に記載する事業所は、計画書の「別紙様式２－２」、「２－３」及び「２－４」に記載した事業所と一致しなければならない。事業所の数が多く、１枚に記載しきれない場合は、適宜、行を追加すること。"]
[]
[null,"介護保険事業所番号",null,null,null,null,null,null,null,null,null,"指定権者","事業所の所在地",null,"事業所名","サービス名"," 処遇改善加算",null," 特定加算",null,null,"ベースアップ等加算"]
[null,null,null,null,null,null,null,null,null,null,null,null,null,null,null,null,"算定する\n加算区分","本年度の加算の総額［円］","算定する\n加算区分","本年度の加算の総額［円］","経験・技能のある介護職員のうち月平均8万円以上又は年額440万円以上［人］","本年度のベースアップ等加算の総額［円］"]
[]
[null,null,null,null,null,null,null,null,null,null,null,null,"都道府県","市区町村"]
[]
[]
["1",{"$f":"IF(基本情報入力シート!C53=\"\",\"\",基本情報入力シート!C53)","v":""},null,null,null,null,null,null,null,null,null,{"$f":"IF(基本情報入力シート!M53=\"\",\"\",基本情報入力シート!M53)","v":""},{"$f":"IF(基本情報入力シート!R53=\"\",\"\",基本情報入力シート!R53)","v":""},{"$f":"IF(基本情報入力シート!W53=\"\",\"\",基本情報入力シート!W53)","v":""},{"$f":"IF(基本情報入力シート!X53=\"\",\"\",基本情報入力シート!X53)","v":""},{"$f":"IF(基本情報入力シート!Y53=\"\",\"\",基本情報入力シート!Y53)","v":""}]
[{"$f":"A19+1","v":2},{"$f":"IF(基本情報入力シート!C54=\"\",\"\",基本情報入力シート!C54)","v":""},null,null,null,null,null,null,null,null,null,{"$f":"IF(基本情報入力シート!M54=\"\",\"\",基本情報入力シート!M54)","v":""},{"$f":"IF(基本情報入力シート!R54=\"\",\"\",基本情報入力シート!R54)","v":""},{"$f":"IF(基本情報入力シート!W54=\"\",\"\",基本情報入力シート!W54)","v":""},{"$f":"IF(基本情報入力シート!X54=\"\",\"\",基本情報入力シート!X54)","v":""},{"$f":"IF(基本情報入力シート!Y54=\"\",\"\",基本情報入力シート!Y54)","v":""}]
[{"$f":"A20+1","v":3},{"$f":"IF(基本情報入力シート!C55=\"\",\"\",基本情報入力シート!C55)","v":""},null,null,null,null,null,null,null,null,null,{"$f":"IF(基本情報入力シート!M55=\"\",\"\",基本情報入力シート!M55)","v":""},{"$f":"IF(基本情報入力シート!R55=\"\",\"\",基本情報入力シート!R55)","v":""},{"$f":"IF(基本情報入力シート!W55=\"\",\"\",基本情報入力シート!W55)","v":""},{"$f":"IF(基本情報入力シート!X55=\"\",\"\",基本情報入力シート!X55)","v":""},{"$f":"IF(基本情報入力シート!Y55=\"\",\"\",基本情報入力シート!Y55)","v":""}]
[4,{"$f":"IF(基本情報入力シート!C56=\"\",\"\",基本情報入力シート!C56)","v":""},null,null,null,null,null,null,null,null,null,{"$f":"IF(基本情報入力シート!M56=\"\",\"\",基本情報入力シート!M56)","v":""},{"$f":"IF(基本情報入力シート!R56=\"\",\"\",基本情報入力シート!R56)","v":""},{"$f":"IF(基本情報入力シート!W56=\"\",\"\",基本情報入力シート!W56)","v":""},{"$f":"IF(基本情報入力シート!X56=\"\",\"\",基本情報入力シート!X56)","v":""},{"$f":"IF(基本情報入力シート!Y56=\"\",\"\",基本情報入力シート!Y56)","v":""}]
[5,{"$f":"IF(基本情報入力シート!C57=\"\",\"\",基本情報入力シート!C57)","v":""},null,null,null,null,null,null,null,null,null,{"$f":"IF(基本情報入力シート!M57=\"\",\"\",基本情報入力シート!M57)","v":""},{"$f":"IF(基本情報入力シート!R57=\"\",\"\",基本情報入力シート!R57)","v":""},{"$f":"IF(基本情報入力シート!W57=\"\",\"\",基本情報入力シート!W57)","v":""},{"$f":"IF(基本情報入力シート!X57=\"\",\"\",基本情報入力シート!X57)","v":""},{"$f":"IF(基本情報入力シート!Y57=\"\",\"\",基本情報入力シート!Y57)","v":""}]
[6,{"$f":"IF(基本情報入力シート!C58=\"\",\"\",基本情報入力シート!C58)","v":""},null,null,null,null,null,null,null,null,null,{"$f":"IF(基本情報入力シート!M58=\"\",\"\",基本情報入力シート!M58)","v":""},{"$f":"IF(基本情報入力シート!R58=\"\",\"\",基本情報入力シート!R58)","v":""},{"$f":"IF(基本情報入力シート!W58=\"\",\"\",基本情報入力シート!W58)","v":""},{"$f":"IF(基本情報入力シート!X58=\"\",\"\",基本情報入力シート!X58)","v":""},{"$f":"IF(基本情報入力シート!Y58=\"\",\"\",基本情報入力シート!Y58)","v":""}]
[7,{"$f":"IF(基本情報入力シート!C59=\"\",\"\",基本情報入力シート!C59)","v":""},null,null,null,null,null,null,null,null,null,{"$f":"IF(基本情報入力シート!M59=\"\",\"\",基本情報入力シート!M59)","v":""},{"$f":"IF(基本情報入力シート!R59=\"\",\"\",基本情報入力シート!R59)","v":""},{"$f":"IF(基本情報入力シート!W59=\"\",\"\",基本情報入力シート!W59)","v":""},{"$f":"IF(基本情報入力シート!X59=\"\",\"\",基本情報入力シート!X59)","v":""},{"$f":"IF(基本情報入力シート!Y59=\"\",\"\",基本情報入力シート!Y59)","v":""}]
[8,{"$f":"IF(基本情報入力シート!C60=\"\",\"\",基本情報入力シート!C60)","v":""},null,null,null,null,null,null,null,null,null,{"$f":"IF(基本情報入力シート!M60=\"\",\"\",基本情報入力シート!M60)","v":""},{"$f":"IF(基本情報入力シート!R60=\"\",\"\",基本情報入力シート!R60)","v":""},{"$f":"IF(基本情報入力シート!W60=\"\",\"\",基本情報入力シート!W60)","v":""},{"$f":"IF(基本情報入力シート!X60=\"\",\"\",基本情報入力シート!X60)","v":""},{"$f":"IF(基本情報入力シート!Y60=\"\",\"\",基本情報入力シート!Y60)","v":""}]
[9,{"$f":"IF(基本情報入力シート!C61=\"\",\"\",基本情報入力シート!C61)","v":""},null,null,null,null,null,null,null,null,null,{"$f":"IF(基本情報入力シート!M61=\"\",\"\",基本情報入力シート!M61)","v":""},{"$f":"IF(基本情報入力シート!R61=\"\",\"\",基本情報入力シート!R61)","v":""},{"$f":"IF(基本情報入力シート!W61=\"\",\"\",基本情報入力シート!W61)","v":""},{"$f":"IF(基本情報入力シート!X61=\"\",\"\",基本情報入力シート!X61)","v":""},{"$f":"IF(基本情報入力シート!Y61=\"\",\"\",基本情報入力シート!Y61)","v":""}]
[10,{"$f":"IF(基本情報入力シート!C62=\"\",\"\",基本情報入力シート!C62)","v":""},null,null,null,null,null,null,null,null,null,{"$f":"IF(基本情報入力シート!M62=\"\",\"\",基本情報入力シート!M62)","v":""},{"$f":"IF(基本情報入力シート!R62=\"\",\"\",基本情報入力シート!R62)","v":""},{"$f":"IF(基本情報入力シート!W62=\"\",\"\",基本情報入力シート!W62)","v":""},{"$f":"IF(基本情報入力シート!X62=\"\",\"\",基本情報入力シート!X62)","v":""},{"$f":"IF(基本情報入力シート!Y62=\"\",\"\",基本情報入力シート!Y62)","v":""}]
[11,{"$f":"IF(基本情報入力シート!C63=\"\",\"\",基本情報入力シート!C63)","v":""},null,null,null,null,null,null,null,null,null,{"$f":"IF(基本情報入力シート!M63=\"\",\"\",基本情報入力シート!M63)","v":""},{"$f":"IF(基本情報入力シート!R63=\"\",\"\",基本情報入力シート!R63)","v":""},{"$f":"IF(基本情報入力シート!W63=\"\",\"\",基本情報入力シート!W63)","v":""},{"$f":"IF(基本情報入力シート!X63=\"\",\"\",基本情報入力シート!X63)","v":""},{"$f":"IF(基本情報入力シート!Y63=\"\",\"\",基本情報入力シート!Y63)","v":""}]
[12,{"$f":"IF(基本情報入力シート!C64=\"\",\"\",基本情報入力シート!C64)","v":""},null,null,null,null,null,null,null,null,null,{"$f":"IF(基本情報入力シート!M64=\"\",\"\",基本情報入力シート!M64)","v":""},{"$f":"IF(基本情報入力シート!R64=\"\",\"\",基本情報入力シート!R64)","v":""},{"$f":"IF(基本情報入力シート!W64=\"\",\"\",基本情報入力シート!W64)","v":""},{"$f":"IF(基本情報入力シート!X64=\"\",\"\",基本情報入力シート!X64)","v":""},{"$f":"IF(基本情報入力シート!Y64=\"\",\"\",基本情報入力シート!Y64)","v":""}]
[13,{"$f":"IF(基本情報入力シート!C65=\"\",\"\",基本情報入力シート!C65)","v":""},null,null,null,null,null,null,null,null,null,{"$f":"IF(基本情報入力シート!M65=\"\",\"\",基本情報入力シート!M65)","v":""},{"$f":"IF(基本情報入力シート!R65=\"\",\"\",基本情報入力シート!R65)","v":""},{"$f":"IF(基本情報入力シート!W65=\"\",\"\",基本情報入力シート!W65)","v":""},{"$f":"IF(基本情報入力シート!X65=\"\",\"\",基本情報入力シート!X65)","v":""},{"$f":"IF(基本情報入力シート!Y65=\"\",\"\",基本情報入力シート!Y65)","v":""}]
[14,{"$f":"IF(基本情報入力シート!C66=\"\",\"\",基本情報入力シート!C66)","v":""},null,null,null,null,null,null,null,null,null,{"$f":"IF(基本情報入力シート!M66=\"\",\"\",基本情報入力シート!M66)","v":""},{"$f":"IF(基本情報入力シート!R66=\"\",\"\",基本情報入力シート!R66)","v":""},{"$f":"IF(基本情報入力シート!W66=\"\",\"\",基本情報入力シート!W66)","v":""},{"$f":"IF(基本情報入力シート!X66=\"\",\"\",基本情報入力シート!X66)","v":""},{"$f":"IF(基本情報入力シート!Y66=\"\",\"\",基本情報入力シート!Y66)","v":""}]
[15,{"$f":"IF(基本情報入力シート!C67=\"\",\"\",基本情報入力シート!C67)","v":""},null,null,null,null,null,null,null,null,null,{"$f":"IF(基本情報入力シート!M67=\"\",\"\",基本情報入力シート!M67)","v":""},{"$f":"IF(基本情報入力シート!R67=\"\",\"\",基本情報入力シート!R67)","v":""},{"$f":"IF(基本情報入力シート!W67=\"\",\"\",基本情報入力シート!W67)","v":""},{"$f":"IF(基本情報入力シート!X67=\"\",\"\",基本情報入力シート!X67)","v":""},{"$f":"IF(基本情報入力シート!Y67=\"\",\"\",基本情報入力シート!Y67)","v":""}]
[16,{"$f":"IF(基本情報入力シート!C68=\"\",\"\",基本情報入力シート!C68)","v":""},null,null,null,null,null,null,null,null,null,{"$f":"IF(基本情報入力シート!M68=\"\",\"\",基本情報入力シート!M68)","v":""},{"$f":"IF(基本情報入力シート!R68=\"\",\"\",基本情報入力シート!R68)","v":""},{"$f":"IF(基本情報入力シート!W68=\"\",\"\",基本情報入力シート!W68)","v":""},{"$f":"IF(基本情報入力シート!X68=\"\",\"\",基本情報入力シート!X68)","v":""},{"$f":"IF(基本情報入力シート!Y68=\"\",\"\",基本情報入力シート!Y68)","v":""}]
[17,{"$f":"IF(基本情報入力シート!C69=\"\",\"\",基本情報入力シート!C69)","v":""},null,null,null,null,null,null,null,null,null,{"$f":"IF(基本情報入力シート!M69=\"\",\"\",基本情報入力シート!M69)","v":""},{"$f":"IF(基本情報入力シート!R69=\"\",\"\",基本情報入力シート!R69)","v":""},{"$f":"IF(基本情報入力シート!W69=\"\",\"\",基本情報入力シート!W69)","v":""},{"$f":"IF(基本情報入力シート!X69=\"\",\"\",基本情報入力シート!X69)","v":""},{"$f":"IF(基本情報入力シート!Y69=\"\",\"\",基本情報入力シート!Y69)","v":""}]
[18,{"$f":"IF(基本情報入力シート!C70=\"\",\"\",基本情報入力シート!C70)","v":""},null,null,null,null,null,null,null,null,null,{"$f":"IF(基本情報入力シート!M70=\"\",\"\",基本情報入力シート!M70)","v":""},{"$f":"IF(基本情報入力シート!R70=\"\",\"\",基本情報入力シート!R70)","v":""},{"$f":"IF(基本情報入力シート!W70=\"\",\"\",基本情報入力シート!W70)","v":""},{"$f":"IF(基本情報入力シート!X70=\"\",\"\",基本情報入力シート!X70)","v":""},{"$f":"IF(基本情報入力シート!Y70=\"\",\"\",基本情報入力シート!Y70)","v":""}]
[19,{"$f":"IF(基本情報入力シート!C71=\"\",\"\",基本情報入力シート!C71)","v":""},null,null,null,null,null,null,null,null,null,{"$f":"IF(基本情報入力シート!M71=\"\",\"\",基本情報入力シート!M71)","v":""},{"$f":"IF(基本情報入力シート!R71=\"\",\"\",基本情報入力シート!R71)","v":""},{"$f":"IF(基本情報入力シート!W71=\"\",\"\",基本情報入力シート!W71)","v":""},{"$f":"IF(基本情報入力シート!X71=\"\",\"\",基本情報入力シート!X71)","v":""},{"$f":"IF(基本情報入力シート!Y71=\"\",\"\",基本情報入力シート!Y71)","v":""}]
[20,{"$f":"IF(基本情報入力シート!C72=\"\",\"\",基本情報入力シート!C72)","v":""},null,null,null,null,null,null,null,null,null,{"$f":"IF(基本情報入力シート!M72=\"\",\"\",基本情報入力シート!M72)","v":""},{"$f":"IF(基本情報入力シート!R72=\"\",\"\",基本情報入力シート!R72)","v":""},{"$f":"IF(基本情報入力シート!W72=\"\",\"\",基本情報入力シート!W72)","v":""},{"$f":"IF(基本情報入力シート!X72=\"\",\"\",基本情報入力シート!X72)","v":""},{"$f":"IF(基本情報入力シート!Y72=\"\",\"\",基本情報入力シート!Y72)","v":""}]
[21,{"$f":"IF(基本情報入力シート!C73=\"\",\"\",基本情報入力シート!C73)","v":""},null,null,null,null,null,null,null,null,null,{"$f":"IF(基本情報入力シート!M73=\"\",\"\",基本情報入力シート!M73)","v":""},{"$f":"IF(基本情報入力シート!R73=\"\",\"\",基本情報入力シート!R73)","v":""},{"$f":"IF(基本情報入力シート!W73=\"\",\"\",基本情報入力シート!W73)","v":""},{"$f":"IF(基本情報入力シート!X73=\"\",\"\",基本情報入力シート!X73)","v":""},{"$f":"IF(基本情報入力シート!Y73=\"\",\"\",基本情報入力シート!Y73)","v":""}]
[22,{"$f":"IF(基本情報入力シート!C74=\"\",\"\",基本情報入力シート!C74)","v":""},null,null,null,null,null,null,null,null,null,{"$f":"IF(基本情報入力シート!M74=\"\",\"\",基本情報入力シート!M74)","v":""},{"$f":"IF(基本情報入力シート!R74=\"\",\"\",基本情報入力シート!R74)","v":""},{"$f":"IF(基本情報入力シート!W74=\"\",\"\",基本情報入力シート!W74)","v":""},{"$f":"IF(基本情報入力シート!X74=\"\",\"\",基本情報入力シート!X74)","v":""},{"$f":"IF(基本情報入力シート!Y74=\"\",\"\",基本情報入力シート!Y74)","v":""}]
[23,{"$f":"IF(基本情報入力シート!C75=\"\",\"\",基本情報入力シート!C75)","v":""},null,null,null,null,null,null,null,null,null,{"$f":"IF(基本情報入力シート!M75=\"\",\"\",基本情報入力シート!M75)","v":""},{"$f":"IF(基本情報入力シート!R75=\"\",\"\",基本情報入力シート!R75)","v":""},{"$f":"IF(基本情報入力シート!W75=\"\",\"\",基本情報入力シート!W75)","v":""},{"$f":"IF(基本情報入力シート!X75=\"\",\"\",基本情報入力シート!X75)","v":""},{"$f":"IF(基本情報入力シート!Y75=\"\",\"\",基本情報入力シート!Y75)","v":""}]
[24,{"$f":"IF(基本情報入力シート!C76=\"\",\"\",基本情報入力シート!C76)","v":""},null,null,null,null,null,null,null,null,null,{"$f":"IF(基本情報入力シート!M76=\"\",\"\",基本情報入力シート!M76)","v":""},{"$f":"IF(基本情報入力シート!R76=\"\",\"\",基本情報入力シート!R76)","v":""},{"$f":"IF(基本情報入力シート!W76=\"\",\"\",基本情報入力シート!W76)","v":""},{"$f":"IF(基本情報入力シート!X76=\"\",\"\",基本情報入力シート!X76)","v":""},{"$f":"IF(基本情報入力シート!Y76=\"\",\"\",基本情報入力シート!Y76)","v":""}]
[25,{"$f":"IF(基本情報入力シート!C77=\"\",\"\",基本情報入力シート!C77)","v":""},null,null,null,null,null,null,null,null,null,{"$f":"IF(基本情報入力シート!M77=\"\",\"\",基本情報入力シート!M77)","v":""},{"$f":"IF(基本情報入力シート!R77=\"\",\"\",基本情報入力シート!R77)","v":""},{"$f":"IF(基本情報入力シート!W77=\"\",\"\",基本情報入力シート!W77)","v":""},{"$f":"IF(基本情報入力シート!X77=\"\",\"\",基本情報入力シート!X77)","v":""},{"$f":"IF(基本情報入力シート!Y77=\"\",\"\",基本情報入力シート!Y77)","v":""}]
[26,{"$f":"IF(基本情報入力シート!C78=\"\",\"\",基本情報入力シート!C78)","v":""},null,null,null,null,null,null,null,null,null,{"$f":"IF(基本情報入力シート!M78=\"\",\"\",基本情報入力シート!M78)","v":""},{"$f":"IF(基本情報入力シート!R78=\"\",\"\",基本情報入力シート!R78)","v":""},{"$f":"IF(基本情報入力シート!W78=\"\",\"\",基本情報入力シート!W78)","v":""},{"$f":"IF(基本情報入力シート!X78=\"\",\"\",基本情報入力シート!X78)","v":""},{"$f":"IF(基本情報入力シート!Y78=\"\",\"\",基本情報入力シート!Y78)","v":""}]
[27,{"$f":"IF(基本情報入力シート!C79=\"\",\"\",基本情報入力シート!C79)","v":""},null,null,null,null,null,null,null,null,null,{"$f":"IF(基本情報入力シート!M79=\"\",\"\",基本情報入力シート!M79)","v":""},{"$f":"IF(基本情報入力シート!R79=\"\",\"\",基本情報入力シート!R79)","v":""},{"$f":"IF(基本情報入力シート!W79=\"\",\"\",基本情報入力シート!W79)","v":""},{"$f":"IF(基本情報入力シート!X79=\"\",\"\",基本情報入力シート!X79)","v":""},{"$f":"IF(基本情報入力シート!Y79=\"\",\"\",基本情報入力シート!Y79)","v":""}]
[28,{"$f":"IF(基本情報入力シート!C80=\"\",\"\",基本情報入力シート!C80)","v":""},null,null,null,null,null,null,null,null,null,{"$f":"IF(基本情報入力シート!M80=\"\",\"\",基本情報入力シート!M80)","v":""},{"$f":"IF(基本情報入力シート!R80=\"\",\"\",基本情報入力シート!R80)","v":""},{"$f":"IF(基本情報入力シート!W80=\"\",\"\",基本情報入力シート!W80)","v":""},{"$f":"IF(基本情報入力シート!X80=\"\",\"\",基本情報入力シート!X80)","v":""},{"$f":"IF(基本情報入力シート!Y80=\"\",\"\",基本情報入力シート!Y80)","v":""}]
[29,{"$f":"IF(基本情報入力シート!C81=\"\",\"\",基本情報入力シート!C81)","v":""},null,null,null,null,null,null,null,null,null,{"$f":"IF(基本情報入力シート!M81=\"\",\"\",基本情報入力シート!M81)","v":""},{"$f":"IF(基本情報入力シート!R81=\"\",\"\",基本情報入力シート!R81)","v":""},{"$f":"IF(基本情報入力シート!W81=\"\",\"\",基本情報入力シート!W81)","v":""},{"$f":"IF(基本情報入力シート!X81=\"\",\"\",基本情報入力シート!X81)","v":""},{"$f":"IF(基本情報入力シート!Y81=\"\",\"\",基本情報入力シート!Y81)","v":""}]
[30,{"$f":"IF(基本情報入力シート!C82=\"\",\"\",基本情報入力シート!C82)","v":""},null,null,null,null,null,null,null,null,null,{"$f":"IF(基本情報入力シート!M82=\"\",\"\",基本情報入力シート!M82)","v":""},{"$f":"IF(基本情報入力シート!R82=\"\",\"\",基本情報入力シート!R82)","v":""},{"$f":"IF(基本情報入力シート!W82=\"\",\"\",基本情報入力シート!W82)","v":""},{"$f":"IF(基本情報入力シート!X82=\"\",\"\",基本情報入力シート!X82)","v":""},{"$f":"IF(基本情報入力シート!Y82=\"\",\"\",基本情報入力シート!Y82)","v":""}]
[31,{"$f":"IF(基本情報入力シート!C83=\"\",\"\",基本情報入力シート!C83)","v":""},null,null,null,null,null,null,null,null,null,{"$f":"IF(基本情報入力シート!M83=\"\",\"\",基本情報入力シート!M83)","v":""},{"$f":"IF(基本情報入力シート!R83=\"\",\"\",基本情報入力シート!R83)","v":""},{"$f":"IF(基本情報入力シート!W83=\"\",\"\",基本情報入力シート!W83)","v":""},{"$f":"IF(基本情報入力シート!X83=\"\",\"\",基本情報入力シート!X83)","v":""},{"$f":"IF(基本情報入力シート!Y83=\"\",\"\",基本情報入力シート!Y83)","v":""}]
[32,{"$f":"IF(基本情報入力シート!C84=\"\",\"\",基本情報入力シート!C84)","v":""},null,null,null,null,null,null,null,null,null,{"$f":"IF(基本情報入力シート!M84=\"\",\"\",基本情報入力シート!M84)","v":""},{"$f":"IF(基本情報入力シート!R84=\"\",\"\",基本情報入力シート!R84)","v":""},{"$f":"IF(基本情報入力シート!W84=\"\",\"\",基本情報入力シート!W84)","v":""},{"$f":"IF(基本情報入力シート!X84=\"\",\"\",基本情報入力シート!X84)","v":""},{"$f":"IF(基本情報入力シート!Y84=\"\",\"\",基本情報入力シート!Y84)","v":""}]
[33,{"$f":"IF(基本情報入力シート!C85=\"\",\"\",基本情報入力シート!C85)","v":""},null,null,null,null,null,null,null,null,null,{"$f":"IF(基本情報入力シート!M85=\"\",\"\",基本情報入力シート!M85)","v":""},{"$f":"IF(基本情報入力シート!R85=\"\",\"\",基本情報入力シート!R85)","v":""},{"$f":"IF(基本情報入力シート!W85=\"\",\"\",基本情報入力シート!W85)","v":""},{"$f":"IF(基本情報入力シート!X85=\"\",\"\",基本情報入力シート!X85)","v":""},{"$f":"IF(基本情報入力シート!Y85=\"\",\"\",基本情報入力シート!Y85)","v":""}]
[34,{"$f":"IF(基本情報入力シート!C86=\"\",\"\",基本情報入力シート!C86)","v":""},null,null,null,null,null,null,null,null,null,{"$f":"IF(基本情報入力シート!M86=\"\",\"\",基本情報入力シート!M86)","v":""},{"$f":"IF(基本情報入力シート!R86=\"\",\"\",基本情報入力シート!R86)","v":""},{"$f":"IF(基本情報入力シート!W86=\"\",\"\",基本情報入力シート!W86)","v":""},{"$f":"IF(基本情報入力シート!X86=\"\",\"\",基本情報入力シート!X86)","v":""},{"$f":"IF(基本情報入力シート!Y86=\"\",\"\",基本情報入力シート!Y86)","v":""}]
[35,{"$f":"IF(基本情報入力シート!C87=\"\",\"\",基本情報入力シート!C87)","v":""},null,null,null,null,null,null,null,null,null,{"$f":"IF(基本情報入力シート!M87=\"\",\"\",基本情報入力シート!M87)","v":""},{"$f":"IF(基本情報入力シート!R87=\"\",\"\",基本情報入力シート!R87)","v":""},{"$f":"IF(基本情報入力シート!W87=\"\",\"\",基本情報入力シート!W87)","v":""},{"$f":"IF(基本情報入力シート!X87=\"\",\"\",基本情報入力シート!X87)","v":""},{"$f":"IF(基本情報入力シート!Y87=\"\",\"\",基本情報入力シート!Y87)","v":""}]
[36,{"$f":"IF(基本情報入力シート!C88=\"\",\"\",基本情報入力シート!C88)","v":""},null,null,null,null,null,null,null,null,null,{"$f":"IF(基本情報入力シート!M88=\"\",\"\",基本情報入力シート!M88)","v":""},{"$f":"IF(基本情報入力シート!R88=\"\",\"\",基本情報入力シート!R88)","v":""},{"$f":"IF(基本情報入力シート!W88=\"\",\"\",基本情報入力シート!W88)","v":""},{"$f":"IF(基本情報入力シート!X88=\"\",\"\",基本情報入力シート!X88)","v":""},{"$f":"IF(基本情報入力シート!Y88=\"\",\"\",基本情報入力シート!Y88)","v":""}]
[37,{"$f":"IF(基本情報入力シート!C89=\"\",\"\",基本情報入力シート!C89)","v":""},null,null,null,null,null,null,null,null,null,{"$f":"IF(基本情報入力シート!M89=\"\",\"\",基本情報入力シート!M89)","v":""},{"$f":"IF(基本情報入力シート!R89=\"\",\"\",基本情報入力シート!R89)","v":""},{"$f":"IF(基本情報入力シート!W89=\"\",\"\",基本情報入力シート!W89)","v":""},{"$f":"IF(基本情報入力シート!X89=\"\",\"\",基本情報入力シート!X89)","v":""},{"$f":"IF(基本情報入力シート!Y89=\"\",\"\",基本情報入力シート!Y89)","v":""}]
[38,{"$f":"IF(基本情報入力シート!C90=\"\",\"\",基本情報入力シート!C90)","v":""},null,null,null,null,null,null,null,null,null,{"$f":"IF(基本情報入力シート!M90=\"\",\"\",基本情報入力シート!M90)","v":""},{"$f":"IF(基本情報入力シート!R90=\"\",\"\",基本情報入力シート!R90)","v":""},{"$f":"IF(基本情報入力シート!W90=\"\",\"\",基本情報入力シート!W90)","v":""},{"$f":"IF(基本情報入力シート!X90=\"\",\"\",基本情報入力シート!X90)","v":""},{"$f":"IF(基本情報入力シート!Y90=\"\",\"\",基本情報入力シート!Y90)","v":""}]
[39,{"$f":"IF(基本情報入力シート!C91=\"\",\"\",基本情報入力シート!C91)","v":""},null,null,null,null,null,null,null,null,null,{"$f":"IF(基本情報入力シート!M91=\"\",\"\",基本情報入力シート!M91)","v":""},{"$f":"IF(基本情報入力シート!R91=\"\",\"\",基本情報入力シート!R91)","v":""},{"$f":"IF(基本情報入力シート!W91=\"\",\"\",基本情報入力シート!W91)","v":""},{"$f":"IF(基本情報入力シート!X91=\"\",\"\",基本情報入力シート!X91)","v":""},{"$f":"IF(基本情報入力シート!Y91=\"\",\"\",基本情報入力シート!Y91)","v":""}]
[40,{"$f":"IF(基本情報入力シート!C92=\"\",\"\",基本情報入力シート!C92)","v":""},null,null,null,null,null,null,null,null,null,{"$f":"IF(基本情報入力シート!M92=\"\",\"\",基本情報入力シート!M92)","v":""},{"$f":"IF(基本情報入力シート!R92=\"\",\"\",基本情報入力シート!R92)","v":""},{"$f":"IF(基本情報入力シート!W92=\"\",\"\",基本情報入力シート!W92)","v":""},{"$f":"IF(基本情報入力シート!X92=\"\",\"\",基本情報入力シート!X92)","v":""},{"$f":"IF(基本情報入力シート!Y92=\"\",\"\",基本情報入力シート!Y92)","v":""}]
[41,{"$f":"IF(基本情報入力シート!C93=\"\",\"\",基本情報入力シート!C93)","v":""},null,null,null,null,null,null,null,null,null,{"$f":"IF(基本情報入力シート!M93=\"\",\"\",基本情報入力シート!M93)","v":""},{"$f":"IF(基本情報入力シート!R93=\"\",\"\",基本情報入力シート!R93)","v":""},{"$f":"IF(基本情報入力シート!W93=\"\",\"\",基本情報入力シート!W93)","v":""},{"$f":"IF(基本情報入力シート!X93=\"\",\"\",基本情報入力シート!X93)","v":""},{"$f":"IF(基本情報入力シート!Y93=\"\",\"\",基本情報入力シート!Y93)","v":""}]
[42,{"$f":"IF(基本情報入力シート!C94=\"\",\"\",基本情報入力シート!C94)","v":""},null,null,null,null,null,null,null,null,null,{"$f":"IF(基本情報入力シート!M94=\"\",\"\",基本情報入力シート!M94)","v":""},{"$f":"IF(基本情報入力シート!R94=\"\",\"\",基本情報入力シート!R94)","v":""},{"$f":"IF(基本情報入力シート!W94=\"\",\"\",基本情報入力シート!W94)","v":""},{"$f":"IF(基本情報入力シート!X94=\"\",\"\",基本情報入力シート!X94)","v":""},{"$f":"IF(基本情報入力シート!Y94=\"\",\"\",基本情報入力シート!Y94)","v":""}]
[43,{"$f":"IF(基本情報入力シート!C95=\"\",\"\",基本情報入力シート!C95)","v":""},null,null,null,null,null,null,null,null,null,{"$f":"IF(基本情報入力シート!M95=\"\",\"\",基本情報入力シート!M95)","v":""},{"$f":"IF(基本情報入力シート!R95=\"\",\"\",基本情報入力シート!R95)","v":""},{"$f":"IF(基本情報入力シート!W95=\"\",\"\",基本情報入力シート!W95)","v":""},{"$f":"IF(基本情報入力シート!X95=\"\",\"\",基本情報入力シート!X95)","v":""},{"$f":"IF(基本情報入力シート!Y95=\"\",\"\",基本情報入力シート!Y95)","v":""}]
[44,{"$f":"IF(基本情報入力シート!C96=\"\",\"\",基本情報入力シート!C96)","v":""},null,null,null,null,null,null,null,null,null,{"$f":"IF(基本情報入力シート!M96=\"\",\"\",基本情報入力シート!M96)","v":""},{"$f":"IF(基本情報入力シート!R96=\"\",\"\",基本情報入力シート!R96)","v":""},{"$f":"IF(基本情報入力シート!W96=\"\",\"\",基本情報入力シート!W96)","v":""},{"$f":"IF(基本情報入力シート!X96=\"\",\"\",基本情報入力シート!X96)","v":""},{"$f":"IF(基本情報入力シート!Y96=\"\",\"\",基本情報入力シート!Y96)","v":""}]
[45,{"$f":"IF(基本情報入力シート!C97=\"\",\"\",基本情報入力シート!C97)","v":""},null,null,null,null,null,null,null,null,null,{"$f":"IF(基本情報入力シート!M97=\"\",\"\",基本情報入力シート!M97)","v":""},{"$f":"IF(基本情報入力シート!R97=\"\",\"\",基本情報入力シート!R97)","v":""},{"$f":"IF(基本情報入力シート!W97=\"\",\"\",基本情報入力シート!W97)","v":""},{"$f":"IF(基本情報入力シート!X97=\"\",\"\",基本情報入力シート!X97)","v":""},{"$f":"IF(基本情報入力シート!Y97=\"\",\"\",基本情報入力シート!Y97)","v":""}]
[46,{"$f":"IF(基本情報入力シート!C98=\"\",\"\",基本情報入力シート!C98)","v":""},null,null,null,null,null,null,null,null,null,{"$f":"IF(基本情報入力シート!M98=\"\",\"\",基本情報入力シート!M98)","v":""},{"$f":"IF(基本情報入力シート!R98=\"\",\"\",基本情報入力シート!R98)","v":""},{"$f":"IF(基本情報入力シート!W98=\"\",\"\",基本情報入力シート!W98)","v":""},{"$f":"IF(基本情報入力シート!X98=\"\",\"\",基本情報入力シート!X98)","v":""},{"$f":"IF(基本情報入力シート!Y98=\"\",\"\",基本情報入力シート!Y98)","v":""}]
[47,{"$f":"IF(基本情報入力シート!C99=\"\",\"\",基本情報入力シート!C99)","v":""},null,null,null,null,null,null,null,null,null,{"$f":"IF(基本情報入力シート!M99=\"\",\"\",基本情報入力シート!M99)","v":""},{"$f":"IF(基本情報入力シート!R99=\"\",\"\",基本情報入力シート!R99)","v":""},{"$f":"IF(基本情報入力シート!W99=\"\",\"\",基本情報入力シート!W99)","v":""},{"$f":"IF(基本情報入力シート!X99=\"\",\"\",基本情報入力シート!X99)","v":""},{"$f":"IF(基本情報入力シート!Y99=\"\",\"\",基本情報入力シート!Y99)","v":""}]
[48,{"$f":"IF(基本情報入力シート!C100=\"\",\"\",基本情報入力シート!C100)","v":""},null,null,null,null,null,null,null,null,null,{"$f":"IF(基本情報入力シート!M100=\"\",\"\",基本情報入力シート!M100)","v":""},{"$f":"IF(基本情報入力シート!R100=\"\",\"\",基本情報入力シート!R100)","v":""},{"$f":"IF(基本情報入力シート!W100=\"\",\"\",基本情報入力シート!W100)","v":""},{"$f":"IF(基本情報入力シート!X100=\"\",\"\",基本情報入力シート!X100)","v":""},{"$f":"IF(基本情報入力シート!Y100=\"\",\"\",基本情報入力シート!Y100)","v":""}]
[49,{"$f":"IF(基本情報入力シート!C101=\"\",\"\",基本情報入力シート!C101)","v":""},null,null,null,null,null,null,null,null,null,{"$f":"IF(基本情報入力シート!M101=\"\",\"\",基本情報入力シート!M101)","v":""},{"$f":"IF(基本情報入力シート!R101=\"\",\"\",基本情報入力シート!R101)","v":""},{"$f":"IF(基本情報入力シート!W101=\"\",\"\",基本情報入力シート!W101)","v":""},{"$f":"IF(基本情報入力シート!X101=\"\",\"\",基本情報入力シート!X101)","v":""},{"$f":"IF(基本情報入力シート!Y101=\"\",\"\",基本情報入力シート!Y101)","v":""}]
[50,{"$f":"IF(基本情報入力シート!C102=\"\",\"\",基本情報入力シート!C102)","v":""},null,null,null,null,null,null,null,null,null,{"$f":"IF(基本情報入力シート!M102=\"\",\"\",基本情報入力シート!M102)","v":""},{"$f":"IF(基本情報入力シート!R102=\"\",\"\",基本情報入力シート!R102)","v":""},{"$f":"IF(基本情報入力シート!W102=\"\",\"\",基本情報入力シート!W102)","v":""},{"$f":"IF(基本情報入力シート!X102=\"\",\"\",基本情報入力シート!X102)","v":""},{"$f":"IF(基本情報入力シート!Y102=\"\",\"\",基本情報入力シート!Y102)","v":""}]
[51,{"$f":"IF(基本情報入力シート!C103=\"\",\"\",基本情報入力シート!C103)","v":""},null,null,null,null,null,null,null,null,null,{"$f":"IF(基本情報入力シート!M103=\"\",\"\",基本情報入力シート!M103)","v":""},{"$f":"IF(基本情報入力シート!R103=\"\",\"\",基本情報入力シート!R103)","v":""},{"$f":"IF(基本情報入力シート!W103=\"\",\"\",基本情報入力シート!W103)","v":""},{"$f":"IF(基本情報入力シート!X103=\"\",\"\",基本情報入力シート!X103)","v":""},{"$f":"IF(基本情報入力シート!Y103=\"\",\"\",基本情報入力シート!Y103)","v":""}]
[52,{"$f":"IF(基本情報入力シート!C104=\"\",\"\",基本情報入力シート!C104)","v":""},null,null,null,null,null,null,null,null,null,{"$f":"IF(基本情報入力シート!M104=\"\",\"\",基本情報入力シート!M104)","v":""},{"$f":"IF(基本情報入力シート!R104=\"\",\"\",基本情報入力シート!R104)","v":""},{"$f":"IF(基本情報入力シート!W104=\"\",\"\",基本情報入力シート!W104)","v":""},{"$f":"IF(基本情報入力シート!X104=\"\",\"\",基本情報入力シート!X104)","v":""},{"$f":"IF(基本情報入力シート!Y104=\"\",\"\",基本情報入力シート!Y104)","v":""}]
[53,{"$f":"IF(基本情報入力シート!C105=\"\",\"\",基本情報入力シート!C105)","v":""},null,null,null,null,null,null,null,null,null,{"$f":"IF(基本情報入力シート!M105=\"\",\"\",基本情報入力シート!M105)","v":""},{"$f":"IF(基本情報入力シート!R105=\"\",\"\",基本情報入力シート!R105)","v":""},{"$f":"IF(基本情報入力シート!W105=\"\",\"\",基本情報入力シート!W105)","v":""},{"$f":"IF(基本情報入力シート!X105=\"\",\"\",基本情報入力シート!X105)","v":""},{"$f":"IF(基本情報入力シート!Y105=\"\",\"\",基本情報入力シート!Y105)","v":""}]
[54,{"$f":"IF(基本情報入力シート!C106=\"\",\"\",基本情報入力シート!C106)","v":""},null,null,null,null,null,null,null,null,null,{"$f":"IF(基本情報入力シート!M106=\"\",\"\",基本情報入力シート!M106)","v":""},{"$f":"IF(基本情報入力シート!R106=\"\",\"\",基本情報入力シート!R106)","v":""},{"$f":"IF(基本情報入力シート!W106=\"\",\"\",基本情報入力シート!W106)","v":""},{"$f":"IF(基本情報入力シート!X106=\"\",\"\",基本情報入力シート!X106)","v":""},{"$f":"IF(基本情報入力シート!Y106=\"\",\"\",基本情報入力シート!Y106)","v":""}]
[55,{"$f":"IF(基本情報入力シート!C107=\"\",\"\",基本情報入力シート!C107)","v":""},null,null,null,null,null,null,null,null,null,{"$f":"IF(基本情報入力シート!M107=\"\",\"\",基本情報入力シート!M107)","v":""},{"$f":"IF(基本情報入力シート!R107=\"\",\"\",基本情報入力シート!R107)","v":""},{"$f":"IF(基本情報入力シート!W107=\"\",\"\",基本情報入力シート!W107)","v":""},{"$f":"IF(基本情報入力シート!X107=\"\",\"\",基本情報入力シート!X107)","v":""},{"$f":"IF(基本情報入力シート!Y107=\"\",\"\",基本情報入力シート!Y107)","v":""}]
[56,{"$f":"IF(基本情報入力シート!C108=\"\",\"\",基本情報入力シート!C108)","v":""},null,null,null,null,null,null,null,null,null,{"$f":"IF(基本情報入力シート!M108=\"\",\"\",基本情報入力シート!M108)","v":""},{"$f":"IF(基本情報入力シート!R108=\"\",\"\",基本情報入力シート!R108)","v":""},{"$f":"IF(基本情報入力シート!W108=\"\",\"\",基本情報入力シート!W108)","v":""},{"$f":"IF(基本情報入力シート!X108=\"\",\"\",基本情報入力シート!X108)","v":""},{"$f":"IF(基本情報入力シート!Y108=\"\",\"\",基本情報入力シート!Y108)","v":""}]
[57,{"$f":"IF(基本情報入力シート!C109=\"\",\"\",基本情報入力シート!C109)","v":""},null,null,null,null,null,null,null,null,null,{"$f":"IF(基本情報入力シート!M109=\"\",\"\",基本情報入力シート!M109)","v":""},{"$f":"IF(基本情報入力シート!R109=\"\",\"\",基本情報入力シート!R109)","v":""},{"$f":"IF(基本情報入力シート!W109=\"\",\"\",基本情報入力シート!W109)","v":""},{"$f":"IF(基本情報入力シート!X109=\"\",\"\",基本情報入力シート!X109)","v":""},{"$f":"IF(基本情報入力シート!Y109=\"\",\"\",基本情報入力シート!Y109)","v":""}]
[58,{"$f":"IF(基本情報入力シート!C110=\"\",\"\",基本情報入力シート!C110)","v":""},null,null,null,null,null,null,null,null,null,{"$f":"IF(基本情報入力シート!M110=\"\",\"\",基本情報入力シート!M110)","v":""},{"$f":"IF(基本情報入力シート!R110=\"\",\"\",基本情報入力シート!R110)","v":""},{"$f":"IF(基本情報入力シート!W110=\"\",\"\",基本情報入力シート!W110)","v":""},{"$f":"IF(基本情報入力シート!X110=\"\",\"\",基本情報入力シート!X110)","v":""},{"$f":"IF(基本情報入力シート!Y110=\"\",\"\",基本情報入力シート!Y110)","v":""}]
[59,{"$f":"IF(基本情報入力シート!C111=\"\",\"\",基本情報入力シート!C111)","v":""},null,null,null,null,null,null,null,null,null,{"$f":"IF(基本情報入力シート!M111=\"\",\"\",基本情報入力シート!M111)","v":""},{"$f":"IF(基本情報入力シート!R111=\"\",\"\",基本情報入力シート!R111)","v":""},{"$f":"IF(基本情報入力シート!W111=\"\",\"\",基本情報入力シート!W111)","v":""},{"$f":"IF(基本情報入力シート!X111=\"\",\"\",基本情報入力シート!X111)","v":""},{"$f":"IF(基本情報入力シート!Y111=\"\",\"\",基本情報入力シート!Y111)","v":""}]
[60,{"$f":"IF(基本情報入力シート!C112=\"\",\"\",基本情報入力シート!C112)","v":""},null,null,null,null,null,null,null,null,null,{"$f":"IF(基本情報入力シート!M112=\"\",\"\",基本情報入力シート!M112)","v":""},{"$f":"IF(基本情報入力シート!R112=\"\",\"\",基本情報入力シート!R112)","v":""},{"$f":"IF(基本情報入力シート!W112=\"\",\"\",基本情報入力シート!W112)","v":""},{"$f":"IF(基本情報入力シート!X112=\"\",\"\",基本情報入力シート!X112)","v":""},{"$f":"IF(基本情報入力シート!Y112=\"\",\"\",基本情報入力シート!Y112)","v":""}]
[61,{"$f":"IF(基本情報入力シート!C113=\"\",\"\",基本情報入力シート!C113)","v":""},null,null,null,null,null,null,null,null,null,{"$f":"IF(基本情報入力シート!M113=\"\",\"\",基本情報入力シート!M113)","v":""},{"$f":"IF(基本情報入力シート!R113=\"\",\"\",基本情報入力シート!R113)","v":""},{"$f":"IF(基本情報入力シート!W113=\"\",\"\",基本情報入力シート!W113)","v":""},{"$f":"IF(基本情報入力シート!X113=\"\",\"\",基本情報入力シート!X113)","v":""},{"$f":"IF(基本情報入力シート!Y113=\"\",\"\",基本情報入力シート!Y113)","v":""}]
[62,{"$f":"IF(基本情報入力シート!C114=\"\",\"\",基本情報入力シート!C114)","v":""},null,null,null,null,null,null,null,null,null,{"$f":"IF(基本情報入力シート!M114=\"\",\"\",基本情報入力シート!M114)","v":""},{"$f":"IF(基本情報入力シート!R114=\"\",\"\",基本情報入力シート!R114)","v":""},{"$f":"IF(基本情報入力シート!W114=\"\",\"\",基本情報入力シート!W114)","v":""},{"$f":"IF(基本情報入力シート!X114=\"\",\"\",基本情報入力シート!X114)","v":""},{"$f":"IF(基本情報入力シート!Y114=\"\",\"\",基本情報入力シート!Y114)","v":""}]
[63,{"$f":"IF(基本情報入力シート!C115=\"\",\"\",基本情報入力シート!C115)","v":""},null,null,null,null,null,null,null,null,null,{"$f":"IF(基本情報入力シート!M115=\"\",\"\",基本情報入力シート!M115)","v":""},{"$f":"IF(基本情報入力シート!R115=\"\",\"\",基本情報入力シート!R115)","v":""},{"$f":"IF(基本情報入力シート!W115=\"\",\"\",基本情報入力シート!W115)","v":""},{"$f":"IF(基本情報入力シート!X115=\"\",\"\",基本情報入力シート!X115)","v":""},{"$f":"IF(基本情報入力シート!Y115=\"\",\"\",基本情報入力シート!Y115)","v":""}]
[64,{"$f":"IF(基本情報入力シート!C116=\"\",\"\",基本情報入力シート!C116)","v":""},null,null,null,null,null,null,null,null,null,{"$f":"IF(基本情報入力シート!M116=\"\",\"\",基本情報入力シート!M116)","v":""},{"$f":"IF(基本情報入力シート!R116=\"\",\"\",基本情報入力シート!R116)","v":""},{"$f":"IF(基本情報入力シート!W116=\"\",\"\",基本情報入力シート!W116)","v":""},{"$f":"IF(基本情報入力シート!X116=\"\",\"\",基本情報入力シート!X116)","v":""},{"$f":"IF(基本情報入力シート!Y116=\"\",\"\",基本情報入力シート!Y116)","v":""}]
[65,{"$f":"IF(基本情報入力シート!C117=\"\",\"\",基本情報入力シート!C117)","v":""},null,null,null,null,null,null,null,null,null,{"$f":"IF(基本情報入力シート!M117=\"\",\"\",基本情報入力シート!M117)","v":""},{"$f":"IF(基本情報入力シート!R117=\"\",\"\",基本情報入力シート!R117)","v":""},{"$f":"IF(基本情報入力シート!W117=\"\",\"\",基本情報入力シート!W117)","v":""},{"$f":"IF(基本情報入力シート!X117=\"\",\"\",基本情報入力シート!X117)","v":""},{"$f":"IF(基本情報入力シート!Y117=\"\",\"\",基本情報入力シート!Y117)","v":""}]
[66,{"$f":"IF(基本情報入力シート!C118=\"\",\"\",基本情報入力シート!C118)","v":""},null,null,null,null,null,null,null,null,null,{"$f":"IF(基本情報入力シート!M118=\"\",\"\",基本情報入力シート!M118)","v":""},{"$f":"IF(基本情報入力シート!R118=\"\",\"\",基本情報入力シート!R118)","v":""},{"$f":"IF(基本情報入力シート!W118=\"\",\"\",基本情報入力シート!W118)","v":""},{"$f":"IF(基本情報入力シート!X118=\"\",\"\",基本情報入力シート!X118)","v":""},{"$f":"IF(基本情報入力シート!Y118=\"\",\"\",基本情報入力シート!Y118)","v":""}]
[{"$f":"A84+1","v":67},{"$f":"IF(基本情報入力シート!C119=\"\",\"\",基本情報入力シート!C119)","v":""},null,null,null,null,null,null,null,null,null,{"$f":"IF(基本情報入力シート!M119=\"\",\"\",基本情報入力シート!M119)","v":""},{"$f":"IF(基本情報入力シート!R119=\"\",\"\",基本情報入力シート!R119)","v":""},{"$f":"IF(基本情報入力シート!W119=\"\",\"\",基本情報入力シート!W119)","v":""},{"$f":"IF(基本情報入力シート!X119=\"\",\"\",基本情報入力シート!X119)","v":""},{"$f":"IF(基本情報入力シート!Y119=\"\",\"\",基本情報入力シート!Y119)","v":""}]
[68,{"$f":"IF(基本情報入力シート!C120=\"\",\"\",基本情報入力シート!C120)","v":""},null,null,null,null,null,null,null,null,null,{"$f":"IF(基本情報入力シート!M120=\"\",\"\",基本情報入力シート!M120)","v":""},{"$f":"IF(基本情報入力シート!R120=\"\",\"\",基本情報入力シート!R120)","v":""},{"$f":"IF(基本情報入力シート!W120=\"\",\"\",基本情報入力シート!W120)","v":""},{"$f":"IF(基本情報入力シート!X120=\"\",\"\",基本情報入力シート!X120)","v":""},{"$f":"IF(基本情報入力シート!Y120=\"\",\"\",基本情報入力シート!Y120)","v":""}]
[69,{"$f":"IF(基本情報入力シート!C121=\"\",\"\",基本情報入力シート!C121)","v":""},null,null,null,null,null,null,null,null,null,{"$f":"IF(基本情報入力シート!M121=\"\",\"\",基本情報入力シート!M121)","v":""},{"$f":"IF(基本情報入力シート!R121=\"\",\"\",基本情報入力シート!R121)","v":""},{"$f":"IF(基本情報入力シート!W121=\"\",\"\",基本情報入力シート!W121)","v":""},{"$f":"IF(基本情報入力シート!X121=\"\",\"\",基本情報入力シート!X121)","v":""},{"$f":"IF(基本情報入力シート!Y121=\"\",\"\",基本情報入力シート!Y121)","v":""}]
[70,{"$f":"IF(基本情報入力シート!C122=\"\",\"\",基本情報入力シート!C122)","v":""},null,null,null,null,null,null,null,null,null,{"$f":"IF(基本情報入力シート!M122=\"\",\"\",基本情報入力シート!M122)","v":""},{"$f":"IF(基本情報入力シート!R122=\"\",\"\",基本情報入力シート!R122)","v":""},{"$f":"IF(基本情報入力シート!W122=\"\",\"\",基本情報入力シート!W122)","v":""},{"$f":"IF(基本情報入力シート!X122=\"\",\"\",基本情報入力シート!X122)","v":""},{"$f":"IF(基本情報入力シート!Y122=\"\",\"\",基本情報入力シート!Y122)","v":""}]
[71,{"$f":"IF(基本情報入力シート!C123=\"\",\"\",基本情報入力シート!C123)","v":""},null,null,null,null,null,null,null,null,null,{"$f":"IF(基本情報入力シート!M123=\"\",\"\",基本情報入力シート!M123)","v":""},{"$f":"IF(基本情報入力シート!R123=\"\",\"\",基本情報入力シート!R123)","v":""},{"$f":"IF(基本情報入力シート!W123=\"\",\"\",基本情報入力シート!W123)","v":""},{"$f":"IF(基本情報入力シート!X123=\"\",\"\",基本情報入力シート!X123)","v":""},{"$f":"IF(基本情報入力シート!Y123=\"\",\"\",基本情報入力シート!Y123)","v":""}]
[72,{"$f":"IF(基本情報入力シート!C124=\"\",\"\",基本情報入力シート!C124)","v":""},null,null,null,null,null,null,null,null,null,{"$f":"IF(基本情報入力シート!M124=\"\",\"\",基本情報入力シート!M124)","v":""},{"$f":"IF(基本情報入力シート!R124=\"\",\"\",基本情報入力シート!R124)","v":""},{"$f":"IF(基本情報入力シート!W124=\"\",\"\",基本情報入力シート!W124)","v":""},{"$f":"IF(基本情報入力シート!X124=\"\",\"\",基本情報入力シート!X124)","v":""},{"$f":"IF(基本情報入力シート!Y124=\"\",\"\",基本情報入力シート!Y124)","v":""}]
[73,{"$f":"IF(基本情報入力シート!C125=\"\",\"\",基本情報入力シート!C125)","v":""},null,null,null,null,null,null,null,null,null,{"$f":"IF(基本情報入力シート!M125=\"\",\"\",基本情報入力シート!M125)","v":""},{"$f":"IF(基本情報入力シート!R125=\"\",\"\",基本情報入力シート!R125)","v":""},{"$f":"IF(基本情報入力シート!W125=\"\",\"\",基本情報入力シート!W125)","v":""},{"$f":"IF(基本情報入力シート!X125=\"\",\"\",基本情報入力シート!X125)","v":""},{"$f":"IF(基本情報入力シート!Y125=\"\",\"\",基本情報入力シート!Y125)","v":""}]
[74,{"$f":"IF(基本情報入力シート!C126=\"\",\"\",基本情報入力シート!C126)","v":""},null,null,null,null,null,null,null,null,null,{"$f":"IF(基本情報入力シート!M126=\"\",\"\",基本情報入力シート!M126)","v":""},{"$f":"IF(基本情報入力シート!R126=\"\",\"\",基本情報入力シート!R126)","v":""},{"$f":"IF(基本情報入力シート!W126=\"\",\"\",基本情報入力シート!W126)","v":""},{"$f":"IF(基本情報入力シート!X126=\"\",\"\",基本情報入力シート!X126)","v":""},{"$f":"IF(基本情報入力シート!Y126=\"\",\"\",基本情報入力シート!Y126)","v":""}]
[75,{"$f":"IF(基本情報入力シート!C127=\"\",\"\",基本情報入力シート!C127)","v":""},null,null,null,null,null,null,null,null,null,{"$f":"IF(基本情報入力シート!M127=\"\",\"\",基本情報入力シート!M127)","v":""},{"$f":"IF(基本情報入力シート!R127=\"\",\"\",基本情報入力シート!R127)","v":""},{"$f":"IF(基本情報入力シート!W127=\"\",\"\",基本情報入力シート!W127)","v":""},{"$f":"IF(基本情報入力シート!X127=\"\",\"\",基本情報入力シート!X127)","v":""},{"$f":"IF(基本情報入力シート!Y127=\"\",\"\",基本情報入力シート!Y127)","v":""}]
[76,{"$f":"IF(基本情報入力シート!C128=\"\",\"\",基本情報入力シート!C128)","v":""},null,null,null,null,null,null,null,null,null,{"$f":"IF(基本情報入力シート!M128=\"\",\"\",基本情報入力シート!M128)","v":""},{"$f":"IF(基本情報入力シート!R128=\"\",\"\",基本情報入力シート!R128)","v":""},{"$f":"IF(基本情報入力シート!W128=\"\",\"\",基本情報入力シート!W128)","v":""},{"$f":"IF(基本情報入力シート!X128=\"\",\"\",基本情報入力シート!X128)","v":""},{"$f":"IF(基本情報入力シート!Y128=\"\",\"\",基本情報入力シート!Y128)","v":""}]
[77,{"$f":"IF(基本情報入力シート!C129=\"\",\"\",基本情報入力シート!C129)","v":""},null,null,null,null,null,null,null,null,null,{"$f":"IF(基本情報入力シート!M129=\"\",\"\",基本情報入力シート!M129)","v":""},{"$f":"IF(基本情報入力シート!R129=\"\",\"\",基本情報入力シート!R129)","v":""},{"$f":"IF(基本情報入力シート!W129=\"\",\"\",基本情報入力シート!W129)","v":""},{"$f":"IF(基本情報入力シート!X129=\"\",\"\",基本情報入力シート!X129)","v":""},{"$f":"IF(基本情報入力シート!Y129=\"\",\"\",基本情報入力シート!Y129)","v":""}]
[78,{"$f":"IF(基本情報入力シート!C130=\"\",\"\",基本情報入力シート!C130)","v":""},null,null,null,null,null,null,null,null,null,{"$f":"IF(基本情報入力シート!M130=\"\",\"\",基本情報入力シート!M130)","v":""},{"$f":"IF(基本情報入力シート!R130=\"\",\"\",基本情報入力シート!R130)","v":""},{"$f":"IF(基本情報入力シート!W130=\"\",\"\",基本情報入力シート!W130)","v":""},{"$f":"IF(基本情報入力シート!X130=\"\",\"\",基本情報入力シート!X130)","v":""},{"$f":"IF(基本情報入力シート!Y130=\"\",\"\",基本情報入力シート!Y130)","v":""}]
[79,{"$f":"IF(基本情報入力シート!C131=\"\",\"\",基本情報入力シート!C131)","v":""},null,null,null,null,null,null,null,null,null,{"$f":"IF(基本情報入力シート!M131=\"\",\"\",基本情報入力シート!M131)","v":""},{"$f":"IF(基本情報入力シート!R131=\"\",\"\",基本情報入力シート!R131)","v":""},{"$f":"IF(基本情報入力シート!W131=\"\",\"\",基本情報入力シート!W131)","v":""},{"$f":"IF(基本情報入力シート!X131=\"\",\"\",基本情報入力シート!X131)","v":""},{"$f":"IF(基本情報入力シート!Y131=\"\",\"\",基本情報入力シート!Y131)","v":""}]
[80,{"$f":"IF(基本情報入力シート!C132=\"\",\"\",基本情報入力シート!C132)","v":""},null,null,null,null,null,null,null,null,null,{"$f":"IF(基本情報入力シート!M132=\"\",\"\",基本情報入力シート!M132)","v":""},{"$f":"IF(基本情報入力シート!R132=\"\",\"\",基本情報入力シート!R132)","v":""},{"$f":"IF(基本情報入力シート!W132=\"\",\"\",基本情報入力シート!W132)","v":""},{"$f":"IF(基本情報入力シート!X132=\"\",\"\",基本情報入力シート!X132)","v":""},{"$f":"IF(基本情報入力シート!Y132=\"\",\"\",基本情報入力シート!Y132)","v":""}]
[81,{"$f":"IF(基本情報入力シート!C133=\"\",\"\",基本情報入力シート!C133)","v":""},null,null,null,null,null,null,null,null,null,{"$f":"IF(基本情報入力シート!M133=\"\",\"\",基本情報入力シート!M133)","v":""},{"$f":"IF(基本情報入力シート!R133=\"\",\"\",基本情報入力シート!R133)","v":""},{"$f":"IF(基本情報入力シート!W133=\"\",\"\",基本情報入力シート!W133)","v":""},{"$f":"IF(基本情報入力シート!X133=\"\",\"\",基本情報入力シート!X133)","v":""},{"$f":"IF(基本情報入力シート!Y133=\"\",\"\",基本情報入力シート!Y133)","v":""}]
[82,{"$f":"IF(基本情報入力シート!C134=\"\",\"\",基本情報入力シート!C134)","v":""},null,null,null,null,null,null,null,null,null,{"$f":"IF(基本情報入力シート!M134=\"\",\"\",基本情報入力シート!M134)","v":""},{"$f":"IF(基本情報入力シート!R134=\"\",\"\",基本情報入力シート!R134)","v":""},{"$f":"IF(基本情報入力シート!W134=\"\",\"\",基本情報入力シート!W134)","v":""},{"$f":"IF(基本情報入力シート!X134=\"\",\"\",基本情報入力シート!X134)","v":""},{"$f":"IF(基本情報入力シート!Y134=\"\",\"\",基本情報入力シート!Y134)","v":""}]
[83,{"$f":"IF(基本情報入力シート!C135=\"\",\"\",基本情報入力シート!C135)","v":""},null,null,null,null,null,null,null,null,null,{"$f":"IF(基本情報入力シート!M135=\"\",\"\",基本情報入力シート!M135)","v":""},{"$f":"IF(基本情報入力シート!R135=\"\",\"\",基本情報入力シート!R135)","v":""},{"$f":"IF(基本情報入力シート!W135=\"\",\"\",基本情報入力シート!W135)","v":""},{"$f":"IF(基本情報入力シート!X135=\"\",\"\",基本情報入力シート!X135)","v":""},{"$f":"IF(基本情報入力シート!Y135=\"\",\"\",基本情報入力シート!Y135)","v":""}]
[84,{"$f":"IF(基本情報入力シート!C136=\"\",\"\",基本情報入力シート!C136)","v":""},null,null,null,null,null,null,null,null,null,{"$f":"IF(基本情報入力シート!M136=\"\",\"\",基本情報入力シート!M136)","v":""},{"$f":"IF(基本情報入力シート!R136=\"\",\"\",基本情報入力シート!R136)","v":""},{"$f":"IF(基本情報入力シート!W136=\"\",\"\",基本情報入力シート!W136)","v":""},{"$f":"IF(基本情報入力シート!X136=\"\",\"\",基本情報入力シート!X136)","v":""},{"$f":"IF(基本情報入力シート!Y136=\"\",\"\",基本情報入力シート!Y136)","v":""}]
[85,{"$f":"IF(基本情報入力シート!C137=\"\",\"\",基本情報入力シート!C137)","v":""},null,null,null,null,null,null,null,null,null,{"$f":"IF(基本情報入力シート!M137=\"\",\"\",基本情報入力シート!M137)","v":""},{"$f":"IF(基本情報入力シート!R137=\"\",\"\",基本情報入力シート!R137)","v":""},{"$f":"IF(基本情報入力シート!W137=\"\",\"\",基本情報入力シート!W137)","v":""},{"$f":"IF(基本情報入力シート!X137=\"\",\"\",基本情報入力シート!X137)","v":""},{"$f":"IF(基本情報入力シート!Y137=\"\",\"\",基本情報入力シート!Y137)","v":""}]
[86,{"$f":"IF(基本情報入力シート!C138=\"\",\"\",基本情報入力シート!C138)","v":""},null,null,null,null,null,null,null,null,null,{"$f":"IF(基本情報入力シート!M138=\"\",\"\",基本情報入力シート!M138)","v":""},{"$f":"IF(基本情報入力シート!R138=\"\",\"\",基本情報入力シート!R138)","v":""},{"$f":"IF(基本情報入力シート!W138=\"\",\"\",基本情報入力シート!W138)","v":""},{"$f":"IF(基本情報入力シート!X138=\"\",\"\",基本情報入力シート!X138)","v":""},{"$f":"IF(基本情報入力シート!Y138=\"\",\"\",基本情報入力シート!Y138)","v":""}]
[87,{"$f":"IF(基本情報入力シート!C139=\"\",\"\",基本情報入力シート!C139)","v":""},null,null,null,null,null,null,null,null,null,{"$f":"IF(基本情報入力シート!M139=\"\",\"\",基本情報入力シート!M139)","v":""},{"$f":"IF(基本情報入力シート!R139=\"\",\"\",基本情報入力シート!R139)","v":""},{"$f":"IF(基本情報入力シート!W139=\"\",\"\",基本情報入力シート!W139)","v":""},{"$f":"IF(基本情報入力シート!X139=\"\",\"\",基本情報入力シート!X139)","v":""},{"$f":"IF(基本情報入力シート!Y139=\"\",\"\",基本情報入力シート!Y139)","v":""}]
[88,{"$f":"IF(基本情報入力シート!C140=\"\",\"\",基本情報入力シート!C140)","v":""},null,null,null,null,null,null,null,null,null,{"$f":"IF(基本情報入力シート!M140=\"\",\"\",基本情報入力シート!M140)","v":""},{"$f":"IF(基本情報入力シート!R140=\"\",\"\",基本情報入力シート!R140)","v":""},{"$f":"IF(基本情報入力シート!W140=\"\",\"\",基本情報入力シート!W140)","v":""},{"$f":"IF(基本情報入力シート!X140=\"\",\"\",基本情報入力シート!X140)","v":""},{"$f":"IF(基本情報入力シート!Y140=\"\",\"\",基本情報入力シート!Y140)","v":""}]
[89,{"$f":"IF(基本情報入力シート!C141=\"\",\"\",基本情報入力シート!C141)","v":""},null,null,null,null,null,null,null,null,null,{"$f":"IF(基本情報入力シート!M141=\"\",\"\",基本情報入力シート!M141)","v":""},{"$f":"IF(基本情報入力シート!R141=\"\",\"\",基本情報入力シート!R141)","v":""},{"$f":"IF(基本情報入力シート!W141=\"\",\"\",基本情報入力シート!W141)","v":""},{"$f":"IF(基本情報入力シート!X141=\"\",\"\",基本情報入力シート!X141)","v":""},{"$f":"IF(基本情報入力シート!Y141=\"\",\"\",基本情報入力シート!Y141)","v":""}]
[90,{"$f":"IF(基本情報入力シート!C142=\"\",\"\",基本情報入力シート!C142)","v":""},null,null,null,null,null,null,null,null,null,{"$f":"IF(基本情報入力シート!M142=\"\",\"\",基本情報入力シート!M142)","v":""},{"$f":"IF(基本情報入力シート!R142=\"\",\"\",基本情報入力シート!R142)","v":""},{"$f":"IF(基本情報入力シート!W142=\"\",\"\",基本情報入力シート!W142)","v":""},{"$f":"IF(基本情報入力シート!X142=\"\",\"\",基本情報入力シート!X142)","v":""},{"$f":"IF(基本情報入力シート!Y142=\"\",\"\",基本情報入力シート!Y142)","v":""}]
[91,{"$f":"IF(基本情報入力シート!C143=\"\",\"\",基本情報入力シート!C143)","v":""},null,null,null,null,null,null,null,null,null,{"$f":"IF(基本情報入力シート!M143=\"\",\"\",基本情報入力シート!M143)","v":""},{"$f":"IF(基本情報入力シート!R143=\"\",\"\",基本情報入力シート!R143)","v":""},{"$f":"IF(基本情報入力シート!W143=\"\",\"\",基本情報入力シート!W143)","v":""},{"$f":"IF(基本情報入力シート!X143=\"\",\"\",基本情報入力シート!X143)","v":""},{"$f":"IF(基本情報入力シート!Y143=\"\",\"\",基本情報入力シート!Y143)","v":""}]
[92,{"$f":"IF(基本情報入力シート!C144=\"\",\"\",基本情報入力シート!C144)","v":""},null,null,null,null,null,null,null,null,null,{"$f":"IF(基本情報入力シート!M144=\"\",\"\",基本情報入力シート!M144)","v":""},{"$f":"IF(基本情報入力シート!R144=\"\",\"\",基本情報入力シート!R144)","v":""},{"$f":"IF(基本情報入力シート!W144=\"\",\"\",基本情報入力シート!W144)","v":""},{"$f":"IF(基本情報入力シート!X144=\"\",\"\",基本情報入力シート!X144)","v":""},{"$f":"IF(基本情報入力シート!Y144=\"\",\"\",基本情報入力シート!Y144)","v":""}]
[93,{"$f":"IF(基本情報入力シート!C145=\"\",\"\",基本情報入力シート!C145)","v":""},null,null,null,null,null,null,null,null,null,{"$f":"IF(基本情報入力シート!M145=\"\",\"\",基本情報入力シート!M145)","v":""},{"$f":"IF(基本情報入力シート!R145=\"\",\"\",基本情報入力シート!R145)","v":""},{"$f":"IF(基本情報入力シート!W145=\"\",\"\",基本情報入力シート!W145)","v":""},{"$f":"IF(基本情報入力シート!X145=\"\",\"\",基本情報入力シート!X145)","v":""},{"$f":"IF(基本情報入力シート!Y145=\"\",\"\",基本情報入力シート!Y145)","v":""}]
[94,{"$f":"IF(基本情報入力シート!C146=\"\",\"\",基本情報入力シート!C146)","v":""},null,null,null,null,null,null,null,null,null,{"$f":"IF(基本情報入力シート!M146=\"\",\"\",基本情報入力シート!M146)","v":""},{"$f":"IF(基本情報入力シート!R146=\"\",\"\",基本情報入力シート!R146)","v":""},{"$f":"IF(基本情報入力シート!W146=\"\",\"\",基本情報入力シート!W146)","v":""},{"$f":"IF(基本情報入力シート!X146=\"\",\"\",基本情報入力シート!X146)","v":""},{"$f":"IF(基本情報入力シート!Y146=\"\",\"\",基本情報入力シート!Y146)","v":""}]
[95,{"$f":"IF(基本情報入力シート!C147=\"\",\"\",基本情報入力シート!C147)","v":""},null,null,null,null,null,null,null,null,null,{"$f":"IF(基本情報入力シート!M147=\"\",\"\",基本情報入力シート!M147)","v":""},{"$f":"IF(基本情報入力シート!R147=\"\",\"\",基本情報入力シート!R147)","v":""},{"$f":"IF(基本情報入力シート!W147=\"\",\"\",基本情報入力シート!W147)","v":""},{"$f":"IF(基本情報入力シート!X147=\"\",\"\",基本情報入力シート!X147)","v":""},{"$f":"IF(基本情報入力シート!Y147=\"\",\"\",基本情報入力シート!Y147)","v":""}]
[96,{"$f":"IF(基本情報入力シート!C148=\"\",\"\",基本情報入力シート!C148)","v":""},null,null,null,null,null,null,null,null,null,{"$f":"IF(基本情報入力シート!M148=\"\",\"\",基本情報入力シート!M148)","v":""},{"$f":"IF(基本情報入力シート!R148=\"\",\"\",基本情報入力シート!R148)","v":""},{"$f":"IF(基本情報入力シート!W148=\"\",\"\",基本情報入力シート!W148)","v":""},{"$f":"IF(基本情報入力シート!X148=\"\",\"\",基本情報入力シート!X148)","v":""},{"$f":"IF(基本情報入力シート!Y148=\"\",\"\",基本情報入力シート!Y148)","v":""}]
[97,{"$f":"IF(基本情報入力シート!C149=\"\",\"\",基本情報入力シート!C149)","v":""},null,null,null,null,null,null,null,null,null,{"$f":"IF(基本情報入力シート!M149=\"\",\"\",基本情報入力シート!M149)","v":""},{"$f":"IF(基本情報入力シート!R149=\"\",\"\",基本情報入力シート!R149)","v":""},{"$f":"IF(基本情報入力シート!W149=\"\",\"\",基本情報入力シート!W149)","v":""},{"$f":"IF(基本情報入力シート!X149=\"\",\"\",基本情報入力シート!X149)","v":""},{"$f":"IF(基本情報入力シート!Y149=\"\",\"\",基本情報入力シート!Y149)","v":""}]
[98,{"$f":"IF(基本情報入力シート!C150=\"\",\"\",基本情報入力シート!C150)","v":""},null,null,null,null,null,null,null,null,null,{"$f":"IF(基本情報入力シート!M150=\"\",\"\",基本情報入力シート!M150)","v":""},{"$f":"IF(基本情報入力シート!R150=\"\",\"\",基本情報入力シート!R150)","v":""},{"$f":"IF(基本情報入力シート!W150=\"\",\"\",基本情報入力シート!W150)","v":""},{"$f":"IF(基本情報入力シート!X150=\"\",\"\",基本情報入力シート!X150)","v":""},{"$f":"IF(基本情報入力シート!Y150=\"\",\"\",基本情報入力シート!Y150)","v":""}]
[99,{"$f":"IF(基本情報入力シート!C151=\"\",\"\",基本情報入力シート!C151)","v":""},null,null,null,null,null,null,null,null,null,{"$f":"IF(基本情報入力シート!M151=\"\",\"\",基本情報入力シート!M151)","v":""},{"$f":"IF(基本情報入力シート!R151=\"\",\"\",基本情報入力シート!R151)","v":""},{"$f":"IF(基本情報入力シート!W151=\"\",\"\",基本情報入力シート!W151)","v":""},{"$f":"IF(基本情報入力シート!X151=\"\",\"\",基本情報入力シート!X151)","v":""},{"$f":"IF(基本情報入力シート!Y151=\"\",\"\",基本情報入力シート!Y151)","v":""}]
[100,{"$f":"IF(基本情報入力シート!C152=\"\",\"\",基本情報入力シート!C152)","v":""},null,null,null,null,null,null,null,null,null,{"$f":"IF(基本情報入力シート!M152=\"\",\"\",基本情報入力シート!M152)","v":""},{"$f":"IF(基本情報入力シート!R152=\"\",\"\",基本情報入力シート!R152)","v":""},{"$f":"IF(基本情報入力シート!W152=\"\",\"\",基本情報入力シート!W152)","v":""},{"$f":"IF(基本情報入力シート!X152=\"\",\"\",基本情報入力シート!X152)","v":""},{"$f":"IF(基本情報入力シート!Y152=\"\",\"\",基本情報入力シート!Y152)","v":""}]

{"sheet":"【参考】サービス名一覧","index":3,"n_rows":27,"n_cols":1,"rows_kept":27,"cut":false,"hidden":true,"merged":[]}
[]
["＜サービス名一覧>"]
["サービス名"]
["訪問介護"]
["夜間対応型訪問介護"]
["定期巡回･随時対応型訪問介護看護"]
["（介護予防）訪問入浴介護"]
["通所介護"]
["地域密着型通所介護"]
["（介護予防）通所リハビリテーション"]
["（介護予防）特定施設入居者生活介護"]
["地域密着型特定施設入居者生活介護"]
["（介護予防）認知症対応型通所介護"]
["（介護予防）小規模多機能型居宅介護"]
["看護小規模多機能型居宅介護"]
["（介護予防）認知症対応型共同生活介護"]
["介護老人福祉施設"]
["地域密着型介護老人福祉施設"]
["（介護予防）短期入所生活介護"]
["介護老人保健施設"]
["（介護予防）短期入所療養介護（老健）"]
["介護療養型医療施設"]
["（介護予防）短期入所療養介護 （病院等（老健以外）)"]
["介護医療院"]
["（介護予防）短期入所療養介護（医療院）"]
["訪問型サービス（総合事業）"]
["通所型サービス（総合事業）"]